![]() | Name | Last modified | Size | Description |
---|---|---|---|---|
![]() | Parent Directory | - | ||
![]() | buildbin-out.txt | 23-Sep-2023 00:39 | 1.2K | |
![]() | buildbin-summary.dcf | 23-Sep-2023 00:39 | 548 | |
![]() | buildsrc-out.txt | 23-Sep-2023 00:39 | 891 | |
![]() | buildsrc-summary.dcf | 23-Sep-2023 00:39 | 436 | |
![]() | checksrc-out.txt | 23-Sep-2023 00:39 | 6.4K | |
![]() | checksrc-summary.dcf | 23-Sep-2023 00:39 | 461 | |
![]() | install-out.txt | 23-Sep-2023 00:39 | 1.0K | |
![]() | install-summary.dcf | 23-Sep-2023 00:39 | 275 | |