![]() | Name | Last modified | Size | Description |
---|---|---|---|---|
![]() | Parent Directory | - | ||
![]() | buildsrc-out.txt | 29-Nov-2023 01:39 | 890 | |
![]() | buildsrc-summary.dcf | 29-Nov-2023 01:39 | 435 | |
![]() | checksrc-out.txt | 29-Nov-2023 01:39 | 6.6K | |
![]() | checksrc-summary.dcf | 29-Nov-2023 01:39 | 464 | |
![]() | install-out.txt | 29-Nov-2023 01:39 | 1.0K | |
![]() | install-summary.dcf | 29-Nov-2023 01:39 | 274 | |