Index of /checkResults/devel/bioc-LATEST/GateFinder/raw-results
Name
Last modified
Size
Description
Parent Directory
-
palomino4/
26-Sep-2023 00:37
-
nebbiolo2/
26-Sep-2023 00:36
-
lconway/
26-Sep-2023 00:38
-
kunpeng2/
26-Sep-2023 00:40
-
info.dcf
26-Sep-2023 00:40
271