Back to Multiple platform build/check report for BioC 3.15
ABCDEF[G]HIJKLMNOPQRSTUVWXYZ

This page was generated on 2022-01-17 11:07:29 -0500 (Mon, 17 Jan 2022).

HostnameOSArch (*)R versionInstalled pkgs
nebbiolo1Linux (Ubuntu 20.04.4 LTS)x86_64R Under development (unstable) (2022-01-05 r81451) -- "Unsuffered Consequences" 4161
riesling1Windows Server 2019 Standardx64R Under development (unstable) (2021-11-21 r81221) -- "Unsuffered Consequences" 4056
palomino3Windows Server 2022 Datacenterx64R Under development (unstable) (2021-12-21 r81400 ucrt) -- "Unsuffered Consequences" 3998
merida1macOS 10.14.6 Mojavex86_64R Under development (unstable) (2022-01-05 r81451) -- "Unsuffered Consequences" 4115
Click on any hostname to see more info about the system (e.g. compilers)      (*) as reported by 'uname -p', except on Windows and Mac OS X

INSTALL results for GUIDEseq on riesling1


To the developers/maintainers of the GUIDEseq package:
- Please allow up to 24 hours (and sometimes 48 hours) for your latest push to git@git.bioconductor.org:packages/GUIDEseq.git to
reflect on this report. See How and When does the builder pull? When will my changes propagate? here for more information.
- Make sure to use the following settings in order to reproduce any error or warning you see on this page.

raw results

Package 839/2074HostnameOS / ArchINSTALLBUILDCHECKBUILD BIN
GUIDEseq 1.25.3  (landing page)
Lihua Julie Zhu
Snapshot Date: 2022-01-16 13:55:18 -0500 (Sun, 16 Jan 2022)
git_url: https://git.bioconductor.org/packages/GUIDEseq
git_branch: master
git_last_commit: cf81669
git_last_commit_date: 2021-11-30 23:05:27 -0500 (Tue, 30 Nov 2021)
nebbiolo1Linux (Ubuntu 20.04.4 LTS) / x86_64  OK    OK    OK  UNNEEDED, same version is already published
riesling1Windows Server 2019 Standard / x64  OK    OK    OK    OK  
palomino3Windows Server 2022 Datacenter / x64  OK    OK    OK    OK  NO, package depends on 'GenomicRanges' which is not available
merida1macOS 10.14.6 Mojave / x86_64  OK    OK    OK    OK  UNNEEDED, same version is already published

Summary

Package: GUIDEseq
Version: 1.25.3
Command: D:\biocbuild\bbs-3.15-bioc\R\bin\R.exe CMD INSTALL GUIDEseq
StartedAt: 2022-01-16 16:13:12 -0500 (Sun, 16 Jan 2022)
EndedAt: 2022-01-16 16:14:33 -0500 (Sun, 16 Jan 2022)
EllapsedTime: 81.4 seconds
RetCode: 0
Status:   OK  

Command output

##############################################################################
##############################################################################
###
### Running command:
###
###   D:\biocbuild\bbs-3.15-bioc\R\bin\R.exe CMD INSTALL GUIDEseq
###
##############################################################################
##############################################################################


* installing to library 'D:/biocbuild/bbs-3.15-bioc/R/library'
* installing *source* package 'GUIDEseq' ...
** using staged installation
** R
** data
** inst
** byte-compile and prepare package for lazy loading
** help
*** installing help indices
  converting help for package 'GUIDEseq'
    finding HTML links ... done
    GUIDEseq-package                        html  
    GUIDEseqAnalysis                        html  
    PEtagAnalysis                           html  
    annotateOffTargets                      html  
    combineOfftargets                       html  
    createBarcodeFasta                      html  
    getPeaks                                html  
    getUniqueCleavageEvents                 html  
    getUsedBarcodes                         html  
    mergePlusMinusPeaks                     html  
    offTargetAnalysisOfPeakRegions          html  
    peaks.gr                                html  
    uniqueCleavageEvents                    html  
** building package indices
** installing vignettes
** testing if installed package can be loaded from temporary location
** testing if installed package can be loaded from final location
** testing if installed package keeps a record of temporary installation path
* DONE (GUIDEseq)
Making 'packages.html' ... done