Name | Last modified | Size | Description | |
---|---|---|---|---|
Parent Directory | - | |||
buildbin-out.txt | 29-Mar-2024 00:39 | 5.0K | ||
buildbin-summary.dcf | 29-Mar-2024 00:39 | 518 | ||
buildsrc-out.txt | 29-Mar-2024 00:39 | 901 | ||
buildsrc-summary.dcf | 29-Mar-2024 00:39 | 422 | ||
checksrc-out.txt | 29-Mar-2024 00:39 | 8.8K | ||
checksrc-summary.dcf | 29-Mar-2024 00:39 | 442 | ||
install-out.txt | 29-Mar-2024 00:39 | 3.0K | ||
install-summary.dcf | 29-Mar-2024 00:39 | 265 | ||