Back to Multiple platform build/check report for BioC 3.17: simplified long |
|
This page was generated on 2023-03-28 11:06:54 -0400 (Tue, 28 Mar 2023).
Hostname | OS | Arch (*) | R version | Installed pkgs |
---|---|---|---|---|
nebbiolo1 | Linux (Ubuntu 22.04.1 LTS) | x86_64 | R Under development (unstable) (2023-03-16 r83996) -- "Unsuffered Consequences" | 4547 |
palomino3 | Windows Server 2022 Datacenter | x64 | R Under development (unstable) (2023-03-15 r83984 ucrt) -- "Unsuffered Consequences" | 4308 |
merida1 | macOS 10.14.6 Mojave | x86_64 | R Under development (unstable) (2023-03-16 r83985) -- "Unsuffered Consequences" | 4301 |
Click on any hostname to see more info about the system (e.g. compilers) (*) as reported by 'uname -p', except on Windows and Mac OS X |
To the developers/maintainers of the GSReg package: - Please allow up to 24 hours (and sometimes 48 hours) for your latest push to git@git.bioconductor.org:packages/GSReg.git to reflect on this report. See How and When does the builder pull? When will my changes propagate? for more information. - Make sure to use the following settings in order to reproduce any error or warning you see on this page. |
Package 882/2195 | Hostname | OS / Arch | INSTALL | BUILD | CHECK | BUILD BIN | ||||||||
GSReg 1.33.0 (landing page) Bahman Afsari
| nebbiolo1 | Linux (Ubuntu 22.04.1 LTS) / x86_64 | OK | OK | WARNINGS | ![]() | ||||||||
palomino3 | Windows Server 2022 Datacenter / x64 | OK | OK | WARNINGS | OK | ![]() | ||||||||
merida1 | macOS 10.14.6 Mojave / x86_64 | OK | OK | WARNINGS | OK | ![]() | ||||||||
Package: GSReg |
Version: 1.33.0 |
Command: /Library/Frameworks/R.framework/Resources/bin/R CMD INSTALL GSReg |
StartedAt: 2023-03-27 15:42:03 -0400 (Mon, 27 Mar 2023) |
EndedAt: 2023-03-27 15:44:00 -0400 (Mon, 27 Mar 2023) |
EllapsedTime: 117.3 seconds |
RetCode: 0 |
Status: OK |
############################################################################## ############################################################################## ### ### Running command: ### ### /Library/Frameworks/R.framework/Resources/bin/R CMD INSTALL GSReg ### ############################################################################## ############################################################################## * installing to library ‘/Library/Frameworks/R.framework/Versions/4.3/Resources/library’ * installing *source* package ‘GSReg’ ... ** using staged installation ** libs using C compiler: ‘Apple clang version 11.0.0 (clang-1100.0.33.17)’ using C++ compiler: ‘Apple clang version 11.0.0 (clang-1100.0.33.17)’ using SDK: ‘’ clang -mmacosx-version-min=10.13 -I"/Library/Frameworks/R.framework/Resources/include" -DNDEBUG -I/usr/local/include -fPIC -Wall -g -O2 -c init.c -o init.o clang++ -mmacosx-version-min=10.13 -std=gnu++17 -I"/Library/Frameworks/R.framework/Resources/include" -DNDEBUG -I/usr/local/include -fPIC -Wall -g -O2 -c kendallTauDistance.cc -o kendallTauDistance.o clang++ -mmacosx-version-min=10.13 -std=gnu++17 -I"/Library/Frameworks/R.framework/Resources/include" -DNDEBUG -I/usr/local/include -fPIC -Wall -g -O2 -c kendallTauDistanceFromTemp.cc -o kendallTauDistanceFromTemp.o clang++ -mmacosx-version-min=10.13 -std=gnu++17 -I"/Library/Frameworks/R.framework/Resources/include" -DNDEBUG -I/usr/local/include -fPIC -Wall -g -O2 -c kendallTauDistanceRestricted.cc -o kendallTauDistanceRestricted.o clang++ -mmacosx-version-min=10.13 -std=gnu++17 -I"/Library/Frameworks/R.framework/Resources/include" -DNDEBUG -I/usr/local/include -fPIC -Wall -g -O2 -c nij.cc -o nij.o clang++ -mmacosx-version-min=10.13 -std=gnu++17 -I"/Library/Frameworks/R.framework/Resources/include" -DNDEBUG -I/usr/local/include -fPIC -Wall -g -O2 -c vect2compC.cc -o vect2compC.o clang++ -mmacosx-version-min=10.13 -std=gnu++17 -dynamiclib -Wl,-headerpad_max_install_names -undefined dynamic_lookup -single_module -multiply_defined suppress -L/Library/Frameworks/R.framework/Resources/lib -L/usr/local/lib -o GSReg.so init.o kendallTauDistance.o kendallTauDistanceFromTemp.o kendallTauDistanceRestricted.o nij.o vect2compC.o -F/Library/Frameworks/R.framework/.. -framework R -Wl,-framework -Wl,CoreFoundation installing to /Library/Frameworks/R.framework/Versions/4.3/Resources/library/00LOCK-GSReg/00new/GSReg/libs ** R ** data ** byte-compile and prepare package for lazy loading ** help *** installing help indices ** building package indices ** installing vignettes ** testing if installed package can be loaded from temporary location ** checking absolute paths in shared objects and dynamic libraries ** testing if installed package can be loaded from final location ** testing if installed package keeps a record of temporary installation path * DONE (GSReg)