Name | Last modified | Size | Description | |
---|---|---|---|---|
Parent Directory | - | |||
info.dcf | 13-Jul-2024 01:28 | 273 | ||
kjohnson1/ | 12-Jun-2024 04:43 | - | ||
kjohnson3/ | 13-Jul-2024 01:34 | - | ||
kunpeng2/ | 09-Jul-2024 00:45 | - | ||
lconway/ | 13-Jul-2024 01:32 | - | ||
merida1/ | 12-Jun-2024 04:41 | - | ||
nebbiolo2/ | 13-Jul-2024 01:30 | - | ||
palomino4/ | 12-Jun-2024 04:40 | - | ||
palomino6/ | 13-Jul-2024 01:31 | - | ||
palomino8/ | 13-Jul-2024 01:35 | - | ||