Index of /checkResults/devel/bioc-LATEST/GSEABenchmarkeR/raw-results/nebbiolo1

[ICO]NameLast modifiedSizeDescription

[DIR]Parent Directory  -  
[TXT]buildsrc-out.txt29-Feb-2024 01:36 1.4K 
[   ]buildsrc-summary.dcf29-Feb-2024 01:36 442  
[TXT]checksrc-out.txt29-Feb-2024 01:36 3.5K 
[   ]checksrc-summary.dcf29-Feb-2024 01:36 446  
[TXT]install-out.txt29-Feb-2024 01:36 1.0K 
[   ]install-summary.dcf29-Feb-2024 01:36 275