Index of /checkResults/devel/bioc-LATEST/GSEABenchmarkeR/raw-results/merida1

[ICO]NameLast modifiedSizeDescription

[DIR]Parent Directory  -  
[TXT]install-out.txt05-Mar-2024 01:39 1.0K 
[   ]install-summary.dcf05-Mar-2024 01:39 285  
[TXT]buildsrc-out.txt05-Mar-2024 01:39 1.4K 
[   ]buildsrc-summary.dcf05-Mar-2024 01:39 450  
[TXT]checksrc-out.txt05-Mar-2024 01:39 3.7K 
[   ]checksrc-summary.dcf05-Mar-2024 01:39 476  
[TXT]buildbin-out.txt05-Mar-2024 01:39 1.2K 
[   ]buildbin-summary.dcf05-Mar-2024 01:39 578