Index of /checkResults/devel/bioc-LATEST/GSEABenchmarkeR/raw-results/kunpeng2
Name
Last modified
Size
Description
Parent Directory
-
buildsrc-out.txt
29-Nov-2023 01:39
1.3K
buildsrc-summary.dcf
29-Nov-2023 01:39
359
install-out.txt
29-Nov-2023 01:39
1.0K
install-summary.dcf
29-Nov-2023 01:39
284