Back to Multiple platform build/check report for BioC 3.11
ABCDEF[G]HIJKLMNOPQRSTUVWXYZ

Multiple platform build/check report for BioC 3.11

Results for GRridge

This page was generated on 2020-04-06 13:16:55 -0400 (Mon, 06 Apr 2020).

Package 762/1857HostnameOS / ArchINSTALLBUILDCHECKBUILD BIN
GRridge 1.11.0
Mark A. van de Wiel
Snapshot Date: 2020-04-05 16:45:17 -0400 (Sun, 05 Apr 2020)
URL: https://git.bioconductor.org/packages/GRridge
Branch: master
Last Commit: 5ada1af
Last Changed Date: 2019-10-29 13:42:11 -0400 (Tue, 29 Oct 2019)
malbec2 Linux (Ubuntu 18.04.4 LTS) / x86_64  OK  OK  WARNINGS UNNEEDED, same version exists in internal repository
tokay2 Windows Server 2012 R2 Standard / x64  OK  OK  WARNINGS  OK UNNEEDED, same version exists in internal repository