Name | Last modified | Size | Description | |
---|---|---|---|---|
Parent Directory | - | |||
checksrc-out.txt | 12-Jun-2024 04:41 | 4.0K | ||
buildbin-out.txt | 12-Jun-2024 04:41 | 1.2K | ||
install-out.txt | 12-Jun-2024 04:41 | 1.0K | ||
buildsrc-out.txt | 12-Jun-2024 04:41 | 824 | ||
buildbin-summary.dcf | 12-Jun-2024 04:41 | 542 | ||
checksrc-summary.dcf | 12-Jun-2024 04:41 | 452 | ||
buildsrc-summary.dcf | 12-Jun-2024 04:41 | 434 | ||
install-summary.dcf | 12-Jun-2024 04:41 | 273 | ||