Name | Last modified | Size | Description | |
---|---|---|---|---|
Parent Directory | - | |||
install-summary.dcf | 14-Jun-2024 01:18 | 251 | ||
install-out.txt | 14-Jun-2024 01:18 | 1.5K | ||
checksrc-summary.dcf | 14-Jun-2024 01:18 | 398 | ||
checksrc-out.txt | 14-Jun-2024 01:18 | 3.5K | ||
buildsrc-summary.dcf | 14-Jun-2024 01:18 | 411 | ||
buildsrc-out.txt | 14-Jun-2024 01:18 | 884 | ||