Back to Multiple platform build/check report for BioC 3.15
ABCDEF[G]HIJKLMNOPQRSTUVWXYZ

This page was generated on 2022-01-18 11:11:09 -0500 (Tue, 18 Jan 2022).

HostnameOSArch (*)R versionInstalled pkgs
nebbiolo1Linux (Ubuntu 20.04.4 LTS)x86_64R Under development (unstable) (2022-01-05 r81451) -- "Unsuffered Consequences" 4161
riesling1Windows Server 2019 Standardx64R Under development (unstable) (2021-11-21 r81221) -- "Unsuffered Consequences" 4056
palomino3Windows Server 2022 Datacenterx64R Under development (unstable) (2021-12-21 r81400 ucrt) -- "Unsuffered Consequences" 3998
merida1macOS 10.14.6 Mojavex86_64R Under development (unstable) (2022-01-05 r81451) -- "Unsuffered Consequences" 4115
Click on any hostname to see more info about the system (e.g. compilers)      (*) as reported by 'uname -p', except on Windows and Mac OS X

BUILD BIN results for GOstats on merida1


To the developers/maintainers of the GOstats package:
- Please allow up to 24 hours (and sometimes 48 hours) for your latest push to git@git.bioconductor.org:packages/GOstats.git to
reflect on this report. See How and When does the builder pull? When will my changes propagate? here for more information.
- Make sure to use the following settings in order to reproduce any error or warning you see on this page.

raw results

Package 804/2074HostnameOS / ArchINSTALLBUILDCHECKBUILD BIN
GOstats 2.61.0  (landing page)
Bioconductor Package Maintainer
Snapshot Date: 2022-01-17 13:55:17 -0500 (Mon, 17 Jan 2022)
git_url: https://git.bioconductor.org/packages/GOstats
git_branch: master
git_last_commit: cd3ee9b
git_last_commit_date: 2021-10-26 11:47:01 -0500 (Tue, 26 Oct 2021)
nebbiolo1Linux (Ubuntu 20.04.4 LTS) / x86_64  OK    OK    OK  UNNEEDED, same version is already published
riesling1Windows Server 2019 Standard / x64  OK    OK    OK    OK  
palomino3Windows Server 2022 Datacenter / x64  OK    OK    OK    OK  NO, package depends on 'Biobase' which is not available
merida1macOS 10.14.6 Mojave / x86_64  OK    OK    OK    OK  UNNEEDED, same version is already published

Summary

Package: GOstats
Version: 2.61.0
Command: rm -rf GOstats.buildbin-libdir && mkdir GOstats.buildbin-libdir && /Users/biocbuild/BBS/utils/build-universal.sh GOstats_2.61.0.tar.gz /Library/Frameworks/R.framework/Resources/bin/R GOstats.buildbin-libdir
StartedAt: 2022-01-18 07:53:48 -0500 (Tue, 18 Jan 2022)
EndedAt: 2022-01-18 07:54:31 -0500 (Tue, 18 Jan 2022)
EllapsedTime: 43.4 seconds
RetCode: 0
Status:   OK  
PackageFile: GOstats_2.61.0.tgz
PackageFileSize: 2.1 MiB

Command output

##############################################################################
##############################################################################
###
### Running command:
###
###   rm -rf GOstats.buildbin-libdir && mkdir GOstats.buildbin-libdir && /Users/biocbuild/BBS/utils/build-universal.sh GOstats_2.61.0.tar.gz /Library/Frameworks/R.framework/Resources/bin/R GOstats.buildbin-libdir
###
##############################################################################
##############################################################################


>>>>>>> 
>>>>>>> INSTALLATION WITH 'R CMD INSTALL --preclean --no-multiarch --library=GOstats.buildbin-libdir GOstats_2.61.0.tar.gz'
>>>>>>> 

* installing *source* package ‘GOstats’ ...
** using staged installation
** R
** data
** inst
** byte-compile and prepare package for lazy loading
** help
*** installing help indices
** building package indices
** installing vignettes
** testing if installed package can be loaded from temporary location
** testing if installed package can be loaded from final location
** testing if installed package keeps a record of temporary installation path
* DONE (GOstats)