Back to Multiple platform build/check report for BioC 3.15
ABCDEF[G]HIJKLMNOPQRSTUVWXYZ

This page was generated on 2022-01-18 11:07:25 -0500 (Tue, 18 Jan 2022).

HostnameOSArch (*)R versionInstalled pkgs
nebbiolo1Linux (Ubuntu 20.04.4 LTS)x86_64R Under development (unstable) (2022-01-05 r81451) -- "Unsuffered Consequences" 4161
riesling1Windows Server 2019 Standardx64R Under development (unstable) (2021-11-21 r81221) -- "Unsuffered Consequences" 4056
palomino3Windows Server 2022 Datacenterx64R Under development (unstable) (2021-12-21 r81400 ucrt) -- "Unsuffered Consequences" 3998
merida1macOS 10.14.6 Mojavex86_64R Under development (unstable) (2022-01-05 r81451) -- "Unsuffered Consequences" 4115
Click on any hostname to see more info about the system (e.g. compilers)      (*) as reported by 'uname -p', except on Windows and Mac OS X

INSTALL results for GOpro on riesling1


To the developers/maintainers of the GOpro package:
- Please allow up to 24 hours (and sometimes 48 hours) for your latest push to git@git.bioconductor.org:packages/GOpro.git to
reflect on this report. See How and When does the builder pull? When will my changes propagate? here for more information.
- Make sure to use the following settings in order to reproduce any error or warning you see on this page.

raw results

Package 798/2074HostnameOS / ArchINSTALLBUILDCHECKBUILD BIN
GOpro 1.21.1  (landing page)
Lidia Chrabaszcz
Snapshot Date: 2022-01-17 13:55:17 -0500 (Mon, 17 Jan 2022)
git_url: https://git.bioconductor.org/packages/GOpro
git_branch: master
git_last_commit: 4b8660b
git_last_commit_date: 2022-01-14 11:59:56 -0500 (Fri, 14 Jan 2022)
nebbiolo1Linux (Ubuntu 20.04.4 LTS) / x86_64  OK    OK    OK  UNNEEDED, same version is already published
riesling1Windows Server 2019 Standard / x64  OK    OK    OK    OK  
palomino3Windows Server 2022 Datacenter / x64  OK    OK    OK    OK  NO, package depends on 'AnnotationDbi' which is not available
merida1macOS 10.14.6 Mojave / x86_64  OK    OK    OK    OK  UNNEEDED, same version is already published

Summary

Package: GOpro
Version: 1.21.1
Command: D:\biocbuild\bbs-3.15-bioc\R\bin\R.exe CMD INSTALL GOpro
StartedAt: 2022-01-17 15:55:25 -0500 (Mon, 17 Jan 2022)
EndedAt: 2022-01-17 15:56:18 -0500 (Mon, 17 Jan 2022)
EllapsedTime: 53.5 seconds
RetCode: 0
Status:   OK  

Command output

##############################################################################
##############################################################################
###
### Running command:
###
###   D:\biocbuild\bbs-3.15-bioc\R\bin\R.exe CMD INSTALL GOpro
###
##############################################################################
##############################################################################


* installing to library 'D:/biocbuild/bbs-3.15-bioc/R/library'
* installing *source* package 'GOpro' ...
** using staged installation
** libs
"C:/rtools40/mingw64/bin/"gcc  -I"D:/biocbuild/bbs-3.15-bioc/R/include" -DNDEBUG  -I'D:/biocbuild/bbs-3.15-bioc/R/library/Rcpp/include' -I'D:/biocbuild/bbs-3.15-bioc/R/library/BH/include'   -I"C:/extsoft/include"     -O2 -Wall  -std=gnu99 -mfpmath=sse -msse2 -mstackrealign -fno-reorder-blocks-and-partition  -c GOpro_init.c -o GOpro_init.o
"C:/rtools40/mingw64/bin/"g++ -std=gnu++11  -I"D:/biocbuild/bbs-3.15-bioc/R/include" -DNDEBUG  -I'D:/biocbuild/bbs-3.15-bioc/R/library/Rcpp/include' -I'D:/biocbuild/bbs-3.15-bioc/R/library/BH/include'   -I"C:/extsoft/include"     -O2 -Wall  -mfpmath=sse -msse2 -mstackrealign -fno-reorder-blocks-and-partition  -c RcppExports.cpp -o RcppExports.o
"C:/rtools40/mingw64/bin/"g++ -std=gnu++11  -I"D:/biocbuild/bbs-3.15-bioc/R/include" -DNDEBUG  -I'D:/biocbuild/bbs-3.15-bioc/R/library/Rcpp/include' -I'D:/biocbuild/bbs-3.15-bioc/R/library/BH/include'   -I"C:/extsoft/include"     -O2 -Wall  -mfpmath=sse -msse2 -mstackrealign -fno-reorder-blocks-and-partition  -c fisher.cpp -o fisher.o
In file included from D:/biocbuild/bbs-3.15-bioc/R/library/BH/include/boost/mpl/aux_/na_assert.hpp:23,
                 from D:/biocbuild/bbs-3.15-bioc/R/library/BH/include/boost/mpl/arg.hpp:25,
                 from D:/biocbuild/bbs-3.15-bioc/R/library/BH/include/boost/mpl/placeholders.hpp:24,
                 from D:/biocbuild/bbs-3.15-bioc/R/library/BH/include/boost/iterator/iterator_categories.hpp:16,
                 from D:/biocbuild/bbs-3.15-bioc/R/library/BH/include/boost/iterator/iterator_facade.hpp:13,
                 from D:/biocbuild/bbs-3.15-bioc/R/library/BH/include/boost/range/iterator_range_core.hpp:27,
                 from D:/biocbuild/bbs-3.15-bioc/R/library/BH/include/boost/lexical_cast.hpp:30,
                 from D:/biocbuild/bbs-3.15-bioc/R/library/BH/include/boost/math/tools/lexical_cast.hpp:12,
                 from D:/biocbuild/bbs-3.15-bioc/R/library/BH/include/boost/math/tools/convert_from_string.hpp:14,
                 from D:/biocbuild/bbs-3.15-bioc/R/library/BH/include/boost/math/constants/constants.hpp:14,
                 from D:/biocbuild/bbs-3.15-bioc/R/library/BH/include/boost/math/distributions/detail/hypergeometric_pdf.hpp:12,
                 from D:/biocbuild/bbs-3.15-bioc/R/library/BH/include/boost/math/distributions/hypergeometric.hpp:15,
                 from fisher.cpp:2:
D:/biocbuild/bbs-3.15-bioc/R/library/BH/include/boost/mpl/assert.hpp:194:21: warning: unnecessary parentheses in declaration of 'assert_arg' [-Wparentheses]
 failed ************ (Pred::************
                     ^
D:/biocbuild/bbs-3.15-bioc/R/library/BH/include/boost/mpl/assert.hpp:199:21: warning: unnecessary parentheses in declaration of 'assert_not_arg' [-Wparentheses]
 failed ************ (boost::mpl::not_<Pred>::************
                     ^
C:/rtools40/mingw64/bin/g++ -std=gnu++11 -shared -s -static-libgcc -o GOpro.dll tmp.def GOpro_init.o RcppExports.o fisher.o -LC:/extsoft/lib/x64 -LC:/extsoft/lib -LD:/biocbuild/bbs-3.15-bioc/R/bin/x64 -lR
installing to D:/biocbuild/bbs-3.15-bioc/R/library/00LOCK-GOpro/00new/GOpro/libs/x64
** R
** data
*** moving datasets to lazyload DB
** byte-compile and prepare package for lazy loading
** help
*** installing help indices
  converting help for package 'GOpro'
    finding HTML links ... done
    GOpro                                   html  
    exrtcga                                 html  
    findGO                                  html  
** building package indices
** installing vignettes
** testing if installed package can be loaded from temporary location
** testing if installed package can be loaded from final location
** testing if installed package keeps a record of temporary installation path
* DONE (GOpro)
Making 'packages.html' ...Warning in packageDescription(i, lib.loc = lib, fields = "Title", encoding = "UTF-8") :
  DESCRIPTION file of package 'lipidr' is missing or broken
 done