Name | Last modified | Size | Description | |
---|---|---|---|---|
Parent Directory | - | |||
install-summary.dcf | 28-Jul-2024 00:38 | 255 | ||
install-out.txt | 28-Jul-2024 00:38 | 2.2K | ||
checksrc-summary.dcf | 28-Jul-2024 00:38 | 406 | ||
checksrc-out.txt | 28-Jul-2024 00:38 | 3.8K | ||
buildsrc-summary.dcf | 28-Jul-2024 00:38 | 415 | ||
buildsrc-out.txt | 28-Jul-2024 00:38 | 1.1K | ||