Index of /checkResults/devel/bioc-LATEST/GOpro/raw-results/lconway

[ICO]NameLast modifiedSizeDescription

[DIR]Parent Directory  -  
[TXT]buildbin-out.txt02-Jul-2022 00:07 3.3K 
[   ]buildbin-summary.dcf02-Jul-2022 00:07 518  
[TXT]buildsrc-out.txt02-Jul-2022 00:07 1.1K 
[   ]buildsrc-summary.dcf02-Jul-2022 00:07 421  
[TXT]checksrc-out.txt02-Jul-2022 00:07 3.5K 
[   ]checksrc-summary.dcf02-Jul-2022 00:07 436  
[TXT]install-out.txt02-Jul-2022 00:07 2.5K 
[   ]install-summary.dcf02-Jul-2022 00:07 265