Name | Last modified | Size | Description | |
---|---|---|---|---|
Parent Directory | - | |||
install-summary.dcf | 06-Jul-2024 00:44 | 245 | ||
checksrc-summary.dcf | 09-Jul-2024 00:45 | 318 | ||
buildsrc-summary.dcf | 09-Jul-2024 00:45 | 399 | ||
install-out.txt | 06-Jul-2024 00:44 | 603 | ||
buildsrc-out.txt | 09-Jul-2024 00:45 | 1.0K | ||
checksrc-out.txt | 09-Jul-2024 00:45 | 1.4K | ||