Back to Multiple platform build/check report for BioC 3.15
ABCDEF[G]HIJKLMNOPQRSTUVWXYZ

This page was generated on 2022-01-18 11:07:25 -0500 (Tue, 18 Jan 2022).

HostnameOSArch (*)R versionInstalled pkgs
nebbiolo1Linux (Ubuntu 20.04.4 LTS)x86_64R Under development (unstable) (2022-01-05 r81451) -- "Unsuffered Consequences" 4161
riesling1Windows Server 2019 Standardx64R Under development (unstable) (2021-11-21 r81221) -- "Unsuffered Consequences" 4056
palomino3Windows Server 2022 Datacenterx64R Under development (unstable) (2021-12-21 r81400 ucrt) -- "Unsuffered Consequences" 3998
merida1macOS 10.14.6 Mojavex86_64R Under development (unstable) (2022-01-05 r81451) -- "Unsuffered Consequences" 4115
Click on any hostname to see more info about the system (e.g. compilers)      (*) as reported by 'uname -p', except on Windows and Mac OS X

BUILD BIN results for GOTHiC on riesling1


To the developers/maintainers of the GOTHiC package:
- Please allow up to 24 hours (and sometimes 48 hours) for your latest push to git@git.bioconductor.org:packages/GOTHiC.git to
reflect on this report. See How and When does the builder pull? When will my changes propagate? here for more information.
- Make sure to use the following settings in order to reproduce any error or warning you see on this page.

raw results

Package 806/2074HostnameOS / ArchINSTALLBUILDCHECKBUILD BIN
GOTHiC 1.31.1  (landing page)
Borbala Mifsud
Snapshot Date: 2022-01-17 13:55:17 -0500 (Mon, 17 Jan 2022)
git_url: https://git.bioconductor.org/packages/GOTHiC
git_branch: master
git_last_commit: f0128ca
git_last_commit_date: 2021-11-18 17:07:49 -0500 (Thu, 18 Nov 2021)
nebbiolo1Linux (Ubuntu 20.04.4 LTS) / x86_64  OK    OK    OK  UNNEEDED, same version is already published
riesling1Windows Server 2019 Standard / x64  OK    OK    OK    OK  
palomino3Windows Server 2022 Datacenter / x64  OK    OK    OK    OK  NO, package depends on 'GenomicRanges' which is not available
merida1macOS 10.14.6 Mojave / x86_64  OK    OK    OK    OK  UNNEEDED, same version is already published

Summary

Package: GOTHiC
Version: 1.31.1
Command: rm -rf GOTHiC.buildbin-libdir && mkdir GOTHiC.buildbin-libdir && D:\biocbuild\bbs-3.15-bioc\R\bin\R.exe CMD INSTALL --build --library=GOTHiC.buildbin-libdir GOTHiC_1.31.1.tar.gz
StartedAt: 2022-01-17 21:01:24 -0500 (Mon, 17 Jan 2022)
EndedAt: 2022-01-17 21:02:21 -0500 (Mon, 17 Jan 2022)
EllapsedTime: 57.0 seconds
RetCode: 0
Status:   OK  
PackageFile: GOTHiC_1.31.1.zip
PackageFileSize: 1.667 MiB

Command output

##############################################################################
##############################################################################
###
### Running command:
###
###   rm -rf GOTHiC.buildbin-libdir && mkdir GOTHiC.buildbin-libdir && D:\biocbuild\bbs-3.15-bioc\R\bin\R.exe CMD INSTALL --build --library=GOTHiC.buildbin-libdir GOTHiC_1.31.1.tar.gz
###
##############################################################################
##############################################################################


* installing *source* package 'GOTHiC' ...
** using staged installation
** R
** data
** inst
** byte-compile and prepare package for lazy loading
** help
*** installing help indices
  converting help for package 'GOTHiC'
    finding HTML links ... done
    GOTHiC                                  html  
    GOTHiChicup                             html  
    filtered                                html  
    mapReadsToRestrictionSites              html  
    pairReads                               html  
** building package indices
** installing vignettes
** testing if installed package can be loaded from temporary location
** testing if installed package can be loaded from final location
** testing if installed package keeps a record of temporary installation path
* MD5 sums
packaged installation of 'GOTHiC' as GOTHiC_1.31.1.zip
* DONE (GOTHiC)