Index of /checkResults/devel/bioc-LATEST/GOSim/raw-results
Name
Last modified
Size
Description
Parent Directory
-
info.dcf
09-Jun-2023 01:56
268
kunpeng2/
09-Jun-2023 01:56
-
lconway/
09-Jun-2023 01:55
-
nebbiolo2/
09-Jun-2023 01:52
-
palomino4/
09-Jun-2023 01:53
-