Back to Multiple platform build/check report for BioC 3.16
ABCDEF[G]HIJKLMNOPQRSTUVWXYZ

This page was generated on 2022-06-24 11:06:33 -0400 (Fri, 24 Jun 2022).

HostnameOSArch (*)R versionInstalled pkgs
nebbiolo2Linux (Ubuntu 20.04.4 LTS)x86_644.2.0 Patched (2022-06-02 r82447) -- "Vigorous Calisthenics" 4331
palomino4Windows Server 2022 Datacenterx644.2.0 Patched (2022-06-02 r82447 ucrt) -- "Vigorous Calisthenics" 4136
lconwaymacOS 12.2.1 Montereyx86_644.2.0 Patched (2022-05-29 r82424) -- "Vigorous Calisthenics" 4147
Click on any hostname to see more info about the system (e.g. compilers)      (*) as reported by 'uname -p', except on Windows and Mac OS X

BUILD BIN results for GOSim on palomino4


To the developers/maintainers of the GOSim package:
- Please allow up to 24 hours (and sometimes 48 hours) for your latest push to git@git.bioconductor.org:packages/GOSim.git to
reflect on this report. See How and When does the builder pull? When will my changes propagate? for more information.
- Make sure to use the following settings in order to reproduce any error or warning you see on this page.

raw results

Package 817/2118HostnameOS / ArchINSTALLBUILDCHECKBUILD BIN
GOSim 1.35.0  (landing page)
Holger Froehlich
Snapshot Date: 2022-06-23 14:00:04 -0400 (Thu, 23 Jun 2022)
git_url: https://git.bioconductor.org/packages/GOSim
git_branch: master
git_last_commit: 0cb943f
git_last_commit_date: 2022-04-26 11:16:18 -0400 (Tue, 26 Apr 2022)
nebbiolo2Linux (Ubuntu 20.04.4 LTS) / x86_64  OK    OK    OK  UNNEEDED, same version is already published
palomino4Windows Server 2022 Datacenter / x64  OK    OK    OK    OK  UNNEEDED, same version is already published
lconwaymacOS 12.2.1 Monterey / x86_64  OK    OK    OK    OK  UNNEEDED, same version is already published

Summary

Package: GOSim
Version: 1.35.0
Command: rm -rf GOSim.buildbin-libdir && mkdir GOSim.buildbin-libdir && F:\biocbuild\bbs-3.16-bioc\R\bin\R.exe CMD INSTALL --merge-multiarch --build --library=GOSim.buildbin-libdir GOSim_1.35.0.tar.gz
StartedAt: 2022-06-24 07:41:52 -0400 (Fri, 24 Jun 2022)
EndedAt: 2022-06-24 07:42:34 -0400 (Fri, 24 Jun 2022)
EllapsedTime: 42.0 seconds
RetCode: 0
Status:   OK  
PackageFile: GOSim_1.35.0.zip
PackageFileSize: 836.4 KiB

Command output

##############################################################################
##############################################################################
###
### Running command:
###
###   rm -rf GOSim.buildbin-libdir && mkdir GOSim.buildbin-libdir && F:\biocbuild\bbs-3.16-bioc\R\bin\R.exe CMD INSTALL --merge-multiarch --build --library=GOSim.buildbin-libdir GOSim_1.35.0.tar.gz
###
##############################################################################
##############################################################################


only one architecture so ignoring '--merge-multiarch'
* installing *source* package 'GOSim' ...
** using staged installation
** libs
g++ -std=gnu++11  -I"F:/biocbuild/bbs-3.16-bioc/R/include" -DNDEBUG  -I'F:/biocbuild/bbs-3.16-bioc/R/library/Rcpp/include'   -I"C:/rtools42/x86_64-w64-mingw32.static.posix/include"  `F:/biocbuild/bbs-3.16-bioc/R/bin/Rscript -e "require(Rcpp); Rcpp:::CxxFlags()"`   -O2 -Wall  -mfpmath=sse -msse2 -mstackrealign  -c OAWrapper.cpp -o OAWrapper.o
Loading required package: Rcpp
gcc  -I"F:/biocbuild/bbs-3.16-bioc/R/include" -DNDEBUG  -I'F:/biocbuild/bbs-3.16-bioc/R/library/Rcpp/include'   -I"C:/rtools42/x86_64-w64-mingw32.static.posix/include"     -O2 -Wall  -std=gnu99 -mfpmath=sse -msse2 -mstackrealign  -c hungarian2.c -o hungarian2.o
Loading required package: Rcpp
g++ -std=gnu++11 -shared -s -static-libgcc -o GOSim.dll tmp.def OAWrapper.o hungarian2.o -LC:/rtools42/x86_64-w64-mingw32.static.posix/lib/x64 -LC:/rtools42/x86_64-w64-mingw32.static.posix/lib -LF:/biocbuild/bbs-3.16-bioc/R/bin/x64 -lR
Loading required package: Rcpp
installing to F:/biocbuild/bbs-3.16-bioc/meat/GOSim.buildbin-libdir/00LOCK-GOSim/00new/GOSim/libs/x64
** R
** data
** inst
** byte-compile and prepare package for lazy loading
** help
*** installing help indices
** building package indices
** installing vignettes
** testing if installed package can be loaded from temporary location
** testing if installed package can be loaded from final location
** testing if installed package keeps a record of temporary installation path
* MD5 sums
packaged installation of 'GOSim' as GOSim_1.35.0.zip
* DONE (GOSim)