Back to Build/check report for BioC 3.16
ABCDEF[G]HIJKLMNOPQRSTUVWXYZ

This page was generated on 2022-06-27 11:05:20 -0400 (Mon, 27 Jun 2022).

HostnameOSArch (*)R versionInstalled pkgs
nebbiolo2Linux (Ubuntu 20.04.4 LTS)x86_644.2.0 Patched (2022-06-02 r82447) -- "Vigorous Calisthenics" 4331
Click on any hostname to see more info about the system (e.g. compilers)      (*) as reported by 'uname -p', except on Windows and Mac OS X

INSTALL results for GOSim on nebbiolo2


To the developers/maintainers of the GOSim package:
- Please allow up to 24 hours (and sometimes 48 hours) for your latest push to git@git.bioconductor.org:packages/GOSim.git to
reflect on this report. See How and When does the builder pull? When will my changes propagate? for more information.
- Make sure to use the following settings in order to reproduce any error or warning you see on this page.

raw results

Package 817/2118HostnameOS / ArchINSTALLBUILDCHECKBUILD BIN
GOSim 1.35.0  (landing page)
Holger Froehlich
Snapshot Date: 2022-06-26 14:00:03 -0400 (Sun, 26 Jun 2022)
git_url: https://git.bioconductor.org/packages/GOSim
git_branch: master
git_last_commit: 0cb943f
git_last_commit_date: 2022-04-26 11:16:18 -0400 (Tue, 26 Apr 2022)
nebbiolo2Linux (Ubuntu 20.04.4 LTS) / x86_64  OK    OK    OK  UNNEEDED, same version is already published

Summary

Package: GOSim
Version: 1.35.0
Command: /home/biocbuild/bbs-3.16-bioc/R/bin/R CMD INSTALL GOSim
StartedAt: 2022-06-26 15:15:33 -0400 (Sun, 26 Jun 2022)
EndedAt: 2022-06-26 15:16:00 -0400 (Sun, 26 Jun 2022)
EllapsedTime: 27.4 seconds
RetCode: 0
Status:   OK  

Command output

##############################################################################
##############################################################################
###
### Running command:
###
###   /home/biocbuild/bbs-3.16-bioc/R/bin/R CMD INSTALL GOSim
###
##############################################################################
##############################################################################


* installing to library ‘/home/biocbuild/bbs-3.16-bioc/R/library’
* installing *source* package ‘GOSim’ ...
** using staged installation
** libs
g++ -std=gnu++14 -I"/home/biocbuild/bbs-3.16-bioc/R/include" -DNDEBUG  -I'/home/biocbuild/bbs-3.16-bioc/R/library/Rcpp/include' -I/usr/local/include  `/home/biocbuild/bbs-3.16-bioc/R/bin/Rscript -e "require(Rcpp); Rcpp:::CxxFlags()"` -fpic  -g -O2  -Wall -c OAWrapper.cpp -o OAWrapper.o
Loading required package: Rcpp
gcc -I"/home/biocbuild/bbs-3.16-bioc/R/include" -DNDEBUG  -I'/home/biocbuild/bbs-3.16-bioc/R/library/Rcpp/include' -I/usr/local/include   -fpic  -g -O2  -Wall -c hungarian2.c -o hungarian2.o
Loading required package: Rcpp
g++ -std=gnu++14 -shared -L/home/biocbuild/bbs-3.16-bioc/R/lib -L/usr/local/lib -o GOSim.so OAWrapper.o hungarian2.o -L/home/biocbuild/bbs-3.16-bioc/R/lib -lR
Loading required package: Rcpp
installing to /home/biocbuild/bbs-3.16-bioc/R/library/00LOCK-GOSim/00new/GOSim/libs
** R
** data
** inst
** byte-compile and prepare package for lazy loading
** help
*** installing help indices
** building package indices
** installing vignettes
** testing if installed package can be loaded from temporary location
** checking absolute paths in shared objects and dynamic libraries
** testing if installed package can be loaded from final location
** testing if installed package keeps a record of temporary installation path
* DONE (GOSim)