Index of /checkResults/devel/bioc-LATEST/GOSemSim/raw-results/nebbiolo2

[ICO]NameLast modifiedSizeDescription

[DIR]Parent Directory  -  
[TXT]buildsrc-out.txt20-Aug-2022 01:11 903  
[   ]buildsrc-summary.dcf20-Aug-2022 01:11 420  
[TXT]checksrc-out.txt20-Aug-2022 01:11 3.5K 
[   ]checksrc-summary.dcf20-Aug-2022 01:11 428  
[TXT]install-out.txt20-Aug-2022 01:11 3.6K 
[   ]install-summary.dcf20-Aug-2022 01:11 261