Back to Multiple platform build/check report for BioC 3.15
ABCDEF[G]HIJKLMNOPQRSTUVWXYZ

This page was generated on 2022-01-27 11:05:48 -0500 (Thu, 27 Jan 2022).

HostnameOSArch (*)R versionInstalled pkgs
nebbiolo1Linux (Ubuntu 20.04.4 LTS)x86_64R Under development (unstable) (2022-01-05 r81451) -- "Unsuffered Consequences" 4167
riesling1Windows Server 2019 Standardx64R Under development (unstable) (2021-11-21 r81221) -- "Unsuffered Consequences" 4062
palomino3Windows Server 2022 Datacenterx64R Under development (unstable) (2021-12-21 r81400 ucrt) -- "Unsuffered Consequences" 4004
merida1macOS 10.14.6 Mojavex86_64R Under development (unstable) (2022-01-05 r81451) -- "Unsuffered Consequences" 4121
Click on any hostname to see more info about the system (e.g. compilers)      (*) as reported by 'uname -p', except on Windows and Mac OS X

CHECK results for GOSemSim on nebbiolo1


To the developers/maintainers of the GOSemSim package:
- Please allow up to 24 hours (and sometimes 48 hours) for your latest push to git@git.bioconductor.org:packages/GOSemSim.git to
reflect on this report. See How and When does the builder pull? When will my changes propagate? here for more information.
- Make sure to use the following settings in order to reproduce any error or warning you see on this page.

raw results

Package 801/2077HostnameOS / ArchINSTALLBUILDCHECKBUILD BIN
GOSemSim 2.21.1  (landing page)
Guangchuang Yu
Snapshot Date: 2022-01-26 13:55:18 -0500 (Wed, 26 Jan 2022)
git_url: https://git.bioconductor.org/packages/GOSemSim
git_branch: master
git_last_commit: 93e0843
git_last_commit_date: 2022-01-09 21:12:55 -0500 (Sun, 09 Jan 2022)
nebbiolo1Linux (Ubuntu 20.04.4 LTS) / x86_64  OK    OK    OK  UNNEEDED, same version is already published
riesling1Windows Server 2019 Standard / x64  OK    OK    OK    NA  
palomino3Windows Server 2022 Datacenter / x64  OK    OK    OK    OK  NO, package depends on 'AnnotationDbi' which is not available
merida1macOS 10.14.6 Mojave / x86_64  OK    OK    OK    OK  UNNEEDED, same version is already published

Summary

Package: GOSemSim
Version: 2.21.1
Command: /home/biocbuild/bbs-3.15-bioc/R/bin/R CMD check --install=check:GOSemSim.install-out.txt --library=/home/biocbuild/bbs-3.15-bioc/R/library --no-vignettes --timings GOSemSim_2.21.1.tar.gz
StartedAt: 2022-01-26 19:30:41 -0500 (Wed, 26 Jan 2022)
EndedAt: 2022-01-26 19:32:34 -0500 (Wed, 26 Jan 2022)
EllapsedTime: 113.1 seconds
RetCode: 0
Status:   OK  
CheckDir: GOSemSim.Rcheck
Warnings: 0

Command output

##############################################################################
##############################################################################
###
### Running command:
###
###   /home/biocbuild/bbs-3.15-bioc/R/bin/R CMD check --install=check:GOSemSim.install-out.txt --library=/home/biocbuild/bbs-3.15-bioc/R/library --no-vignettes --timings GOSemSim_2.21.1.tar.gz
###
##############################################################################
##############################################################################


* using log directory ‘/home/biocbuild/bbs-3.15-bioc/meat/GOSemSim.Rcheck’
* using R Under development (unstable) (2022-01-05 r81451)
* using platform: x86_64-pc-linux-gnu (64-bit)
* using session charset: UTF-8
* using option ‘--no-vignettes’
* checking for file ‘GOSemSim/DESCRIPTION’ ... OK
* checking extension type ... Package
* this is package ‘GOSemSim’ version ‘2.21.1’
* package encoding: UTF-8
* checking package namespace information ... OK
* checking package dependencies ... OK
* checking if this is a source package ... OK
* checking if there is a namespace ... OK
* checking for hidden files and directories ... OK
* checking for portable file names ... OK
* checking for sufficient/correct file permissions ... OK
* checking whether package ‘GOSemSim’ can be installed ... OK
* checking installed package size ... OK
* checking package directory ... OK
* checking ‘build’ directory ... OK
* checking DESCRIPTION meta-information ... OK
* checking top-level files ... OK
* checking for left-over files ... OK
* checking index information ... OK
* checking package subdirectories ... OK
* checking R files for non-ASCII characters ... OK
* checking R files for syntax errors ... OK
* checking whether the package can be loaded ... OK
* checking whether the package can be loaded with stated dependencies ... OK
* checking whether the package can be unloaded cleanly ... OK
* checking whether the namespace can be loaded with stated dependencies ... OK
* checking whether the namespace can be unloaded cleanly ... OK
* checking dependencies in R code ... OK
* checking S3 generic/method consistency ... OK
* checking replacement functions ... OK
* checking foreign function calls ... OK
* checking R code for possible problems ... OK
* checking Rd files ... OK
* checking Rd metadata ... OK
* checking Rd cross-references ... OK
* checking for missing documentation entries ... OK
* checking for code/documentation mismatches ... OK
* checking Rd \usage sections ... OK
* checking Rd contents ... OK
* checking for unstated dependencies in examples ... OK
* checking contents of ‘data’ directory ... OK
* checking data for non-ASCII characters ... OK
* checking data for ASCII and uncompressed saves ... OK
* checking line endings in C/C++/Fortran sources/headers ... OK
* checking compiled code ... NOTE
Note: information on .o files is not available
* checking files in ‘vignettes’ ... OK
* checking examples ... OK
Examples with CPU (user + system) or elapsed time > 5s
            user system elapsed
clusterSim 4.824  0.312   5.137
* checking for unstated dependencies in ‘tests’ ... OK
* checking tests ...
  Running ‘testthat.R’
 OK
* checking for unstated dependencies in vignettes ... OK
* checking package vignettes in ‘inst/doc’ ... OK
* checking running R code from vignettes ... SKIPPED
* checking re-building of vignette outputs ... SKIPPED
* checking PDF version of manual ... OK
* DONE

Status: 1 NOTE
See
  ‘/home/biocbuild/bbs-3.15-bioc/meat/GOSemSim.Rcheck/00check.log’
for details.



Installation output

GOSemSim.Rcheck/00install.out

##############################################################################
##############################################################################
###
### Running command:
###
###   /home/biocbuild/bbs-3.15-bioc/R/bin/R CMD INSTALL GOSemSim
###
##############################################################################
##############################################################################


* installing to library ‘/home/biocbuild/bbs-3.15-bioc/R/library’
* installing *source* package ‘GOSemSim’ ...
** using staged installation
** libs
g++ -std=gnu++14 -I"/home/biocbuild/bbs-3.15-bioc/R/include" -DNDEBUG  -I'/home/biocbuild/bbs-3.15-bioc/R/library/Rcpp/include' -I/usr/local/include   -fpic  -g -O2  -Wall -c ICmethod.cpp -o ICmethod.o
ICmethod.cpp: In function ‘Rcpp::NumericMatrix infoContentMethod_cpp(Rcpp::StringVector&, Rcpp::StringVector&, Rcpp::List&, Rcpp::NumericVector&, const string&, const string&)’:
ICmethod.cpp:82:29: warning: comparison of integer expressions of different signedness: ‘std::size_t’ {aka ‘long unsigned int’} and ‘R_xlen_t’ {aka ‘long int’} [-Wsign-compare]
   82 |     for (std::size_t i=0; i < ic_.size(); i++ ) {
      |                           ~~^~~~~~~~~~~~
ICmethod.cpp:88:29: warning: comparison of integer expressions of different signedness: ‘std::size_t’ {aka ‘long unsigned int’} and ‘R_xlen_t’ {aka ‘long int’} [-Wsign-compare]
   88 |     for (std::size_t i=0; i < ic_.size(); i++ ) {
      |                           ~~^~~~~~~~~~~~
ICmethod.cpp:116:29: warning: comparison of integer expressions of different signedness: ‘std::size_t’ {aka ‘long unsigned int’} and ‘R_xlen_t’ {aka ‘long int’} [-Wsign-compare]
  116 |     for (std::size_t i=0; i < anc_.size(); i++ ) {
      |                           ~~^~~~~~~~~~~~~
ICmethod.cpp:129:30: warning: comparison of integer expressions of different signedness: ‘std::size_t’ {aka ‘long unsigned int’} and ‘R_xlen_t’ {aka ‘long int’} [-Wsign-compare]
  129 |   for ( std::size_t i = 0; i < id1_.size(); i++ ) {
      |                            ~~^~~~~~~~~~~~~
ICmethod.cpp:136:34: warning: comparison of integer expressions of different signedness: ‘std::size_t’ {aka ‘long unsigned int’} and ‘R_xlen_t’ {aka ‘long int’} [-Wsign-compare]
  136 |       for ( std::size_t j = 0; j < id2_.size(); j++ ) {
      |                                ~~^~~~~~~~~~~~~
ICmethod.cpp:163:34: warning: comparison of integer expressions of different signedness: ‘std::size_t’ {aka ‘long unsigned int’} and ‘R_xlen_t’ {aka ‘long int’} [-Wsign-compare]
  163 |       for ( std::size_t j = 0; j < id2_.size(); j++ ) {
      |                                ~~^~~~~~~~~~~~~
g++ -std=gnu++14 -I"/home/biocbuild/bbs-3.15-bioc/R/include" -DNDEBUG  -I'/home/biocbuild/bbs-3.15-bioc/R/library/Rcpp/include' -I/usr/local/include   -fpic  -g -O2  -Wall -c RcppExports.cpp -o RcppExports.o
g++ -std=gnu++14 -shared -L/home/biocbuild/bbs-3.15-bioc/R/lib -L/usr/local/lib -o GOSemSim.so ICmethod.o RcppExports.o -L/home/biocbuild/bbs-3.15-bioc/R/lib -lR
installing to /home/biocbuild/bbs-3.15-bioc/R/library/00LOCK-GOSemSim/00new/GOSemSim/libs
** R
** data
** inst
** byte-compile and prepare package for lazy loading
** help
*** installing help indices
** building package indices
** installing vignettes
** testing if installed package can be loaded from temporary location
** checking absolute paths in shared objects and dynamic libraries
** testing if installed package can be loaded from final location
** testing if installed package keeps a record of temporary installation path
* DONE (GOSemSim)

Tests output

GOSemSim.Rcheck/tests/testthat.Rout


R Under development (unstable) (2022-01-05 r81451) -- "Unsuffered Consequences"
Copyright (C) 2022 The R Foundation for Statistical Computing
Platform: x86_64-pc-linux-gnu (64-bit)

R is free software and comes with ABSOLUTELY NO WARRANTY.
You are welcome to redistribute it under certain conditions.
Type 'license()' or 'licence()' for distribution details.

R is a collaborative project with many contributors.
Type 'contributors()' for more information and
'citation()' on how to cite R or R packages in publications.

Type 'demo()' for some demos, 'help()' for on-line help, or
'help.start()' for an HTML browser interface to help.
Type 'q()' to quit R.

> library(testthat)
> library(GOSemSim)

GOSemSim v2.21.1  For help: https://yulab-smu.top/biomedical-knowledge-mining-book/

If you use GOSemSim in published research, please cite:
- Guangchuang Yu. Gene Ontology Semantic Similarity Analysis Using GOSemSim. In: Kidder B. (eds) Stem Cell Transcriptional Networks. Methods in Molecular Biology, 2020, 2117:207-215. Humana, New York, NY. doi:10.1007/978-1-0716-0301-7_11
- Guangchuang Yu, Fei Li, Yide Qin, Xiaochen Bo, Yibo Wu, Shengqi Wang. GOSemSim: an R package for measuring semantic similarity among GO terms and gene products Bioinformatics 2010, 26(7):976-978. doi:10.1093/bioinformatics/btq064


> 
> test_check("GOSemSim")
[ FAIL 0 | WARN 0 | SKIP 0 | PASS 4 ]
> 
> proc.time()
   user  system elapsed 
  8.496   0.522   9.004 

Example timings

GOSemSim.Rcheck/GOSemSim-Ex.timings

nameusersystemelapsed
clusterSim4.8240.3125.137
geneSim3.8050.1323.936
goSim3.3110.1403.452
mclusterSim4.0550.1444.198
mgeneSim3.5580.1403.698
mgoSim3.3900.1083.498
tcss_cutoff0.0010.0000.000