Index of /checkResults/devel/bioc-LATEST/GNET2/raw-results

[ICO]NameLast modifiedSizeDescription

[DIR]Parent Directory  -  
[DIR]nebbiolo2/17-May-2022 00:05 -  
[DIR]palomino4/17-May-2022 00:06 -  
[   ]info.dcf17-May-2022 00:07 261  
[DIR]lconway/17-May-2022 00:07 -