Name | Last modified | Size | Description | |
---|---|---|---|---|
Parent Directory | - | |||
info.dcf | 17-Jul-2024 00:37 | 260 | ||
kjohnson1/ | 12-Jun-2024 04:43 | - | ||
kjohnson3/ | 17-Jul-2024 00:43 | - | ||
kunpeng2/ | 09-Jul-2024 00:45 | - | ||
lconway/ | 17-Jul-2024 00:42 | - | ||
merida1/ | 12-Jun-2024 04:41 | - | ||
nebbiolo2/ | 17-Jul-2024 00:39 | - | ||
palomino4/ | 12-Jun-2024 04:40 | - | ||
palomino6/ | 17-Jul-2024 00:40 | - | ||
palomino8/ | 17-Jul-2024 00:45 | - | ||