Index of /checkResults/devel/bioc-LATEST/GEOmetadb/raw-results

[ICO]NameLast modifiedSizeDescription

[DIR]Parent Directory  -  
[   ]info.dcf19-Jan-2022 01:11 265  
[DIR]merida1/19-Jan-2022 01:11 -  
[DIR]nebbiolo1/19-Jan-2022 01:05 -  
[DIR]palomino3/19-Jan-2022 01:09 -  
[DIR]riesling1/19-Jan-2022 01:07 -