Index of /checkResults/devel/bioc-LATEST/GEOexplorer/raw-results/nebbiolo2

[ICO]NameLast modifiedSizeDescription

[DIR]Parent Directory  -  
[TXT]buildsrc-out.txt01-Jul-2022 00:05 861  
[   ]buildsrc-summary.dcf01-Jul-2022 00:05 427  
[TXT]checksrc-out.txt01-Jul-2022 00:05 3.0K 
[   ]checksrc-summary.dcf01-Jul-2022 00:05 438  
[TXT]install-out.txt01-Jul-2022 00:05 959  
[   ]install-summary.dcf01-Jul-2022 00:05 266