Name | Last modified | Size | Description | |
---|---|---|---|---|
Parent Directory | - | |||
buildbin-out.txt | 02-May-2024 00:40 | 1.9K | ||
buildbin-summary.dcf | 02-May-2024 00:40 | 551 | ||
buildsrc-out.txt | 02-May-2024 00:40 | 934 | ||
buildsrc-summary.dcf | 02-May-2024 00:40 | 437 | ||
checksrc-out.txt | 02-May-2024 00:40 | 4.0K | ||
checksrc-summary.dcf | 02-May-2024 00:40 | 464 | ||
install-out.txt | 02-May-2024 00:40 | 1.7K | ||
install-summary.dcf | 02-May-2024 00:40 | 276 | ||