Back to Multiple platform build/check report for BioC 3.15
ABCDEF[G]HIJKLMNOPQRSTUVWXYZ

This page was generated on 2022-01-28 11:07:50 -0500 (Fri, 28 Jan 2022).

HostnameOSArch (*)R versionInstalled pkgs
nebbiolo1Linux (Ubuntu 20.04.4 LTS)x86_64R Under development (unstable) (2022-01-05 r81451) -- "Unsuffered Consequences" 4167
riesling1Windows Server 2019 Standardx64R Under development (unstable) (2021-11-21 r81221) -- "Unsuffered Consequences" 4062
palomino3Windows Server 2022 Datacenterx64R Under development (unstable) (2021-12-21 r81400 ucrt) -- "Unsuffered Consequences" 4004
merida1macOS 10.14.6 Mojavex86_64R Under development (unstable) (2022-01-05 r81451) -- "Unsuffered Consequences" 4121
Click on any hostname to see more info about the system (e.g. compilers)      (*) as reported by 'uname -p', except on Windows and Mac OS X

BUILD BIN results for GENESIS on riesling1


To the developers/maintainers of the GENESIS package:
- Please allow up to 24 hours (and sometimes 48 hours) for your latest push to git@git.bioconductor.org:packages/GENESIS.git to
reflect on this report. See How and When does the builder pull? When will my changes propagate? here for more information.
- Make sure to use the following settings in order to reproduce any error or warning you see on this page.

raw results

Package 733/2077HostnameOS / ArchINSTALLBUILDCHECKBUILD BIN
GENESIS 2.25.2  (landing page)
Stephanie M. Gogarten
Snapshot Date: 2022-01-27 13:55:17 -0500 (Thu, 27 Jan 2022)
git_url: https://git.bioconductor.org/packages/GENESIS
git_branch: master
git_last_commit: 803e7e2
git_last_commit_date: 2022-01-14 17:20:51 -0500 (Fri, 14 Jan 2022)
nebbiolo1Linux (Ubuntu 20.04.4 LTS) / x86_64  OK    OK    OK  UNNEEDED, same version is already published
riesling1Windows Server 2019 Standard / x64  OK    OK    OK    OK  
palomino3Windows Server 2022 Datacenter / x64  OK    OK    OK    OK  NO, package depends on 'Biobase' which is not available
merida1macOS 10.14.6 Mojave / x86_64  OK    OK    OK    OK  UNNEEDED, same version is already published

Summary

Package: GENESIS
Version: 2.25.2
Command: rm -rf GENESIS.buildbin-libdir && mkdir GENESIS.buildbin-libdir && D:\biocbuild\bbs-3.15-bioc\R\bin\R.exe CMD INSTALL --build --library=GENESIS.buildbin-libdir GENESIS_2.25.2.tar.gz
StartedAt: 2022-01-27 21:00:07 -0500 (Thu, 27 Jan 2022)
EndedAt: 2022-01-27 21:01:28 -0500 (Thu, 27 Jan 2022)
EllapsedTime: 81.0 seconds
RetCode: 0
Status:   OK  
PackageFile: GENESIS_2.25.2.zip
PackageFileSize: 3.275 MiB

Command output

##############################################################################
##############################################################################
###
### Running command:
###
###   rm -rf GENESIS.buildbin-libdir && mkdir GENESIS.buildbin-libdir && D:\biocbuild\bbs-3.15-bioc\R\bin\R.exe CMD INSTALL --build --library=GENESIS.buildbin-libdir GENESIS_2.25.2.tar.gz
###
##############################################################################
##############################################################################


* installing *source* package 'GENESIS' ...
** using staged installation
** libs
"C:/rtools40/mingw64/bin/"gcc  -I"D:/biocbuild/bbs-3.15-bioc/R/include" -DNDEBUG     -I"C:/extsoft/include"     -O2 -Wall  -std=gnu99 -mfpmath=sse -msse2 -mstackrealign -fno-reorder-blocks-and-partition  -c fht.c -o fht.o
C:/rtools40/mingw64/bin/gcc -shared -s -static-libgcc -o GENESIS.dll tmp.def fht.o -LC:/extsoft/lib/x64 -LC:/extsoft/lib -LD:/biocbuild/bbs-3.15-bioc/R/bin/x64 -lR
installing to D:/biocbuild/bbs-3.15-bioc/meat/GENESIS.buildbin-libdir/00LOCK-GENESIS/00new/GENESIS/libs/x64
** R
** data
** inst
** byte-compile and prepare package for lazy loading
** help
*** installing help indices
  converting help for package 'GENESIS'
    finding HTML links ... done
    GENESIS-package                         html  
    HapMap_ASW_MXL_KINGmat                  html  
    admixMap                                html  
    finding level-2 HTML links ... done

    assocTestAggregate                      html  
    assocTestSingle                         html  
    computeVSIF                             html  
    defunct                                 html  
    effectAllele                            html  
    fitNullModel                            html  
    jointScoreTest                          html  
    kin2gds                                 html  
    kingToMatrix                            html  
    makeSparseMatrix                        html  
REDIRECT:topic	 Previous alias or file overwritten by alias: D:/biocbuild/bbs-3.15-bioc/meat/GENESIS.buildbin-libdir/00LOCK-GENESIS/00new/GENESIS/help/makeSparseMatrix+2CMatrix-method.html
    pcair                                   html  
    pcairPartition                          html  
    pcrelate                                html  
    pcrelateToMatrix                        html  
    plot.pcair                              html  
    print.pcair                             html  
    sample_annotation_1KG                   html  
    varCompCI                               html  
** building package indices
** installing vignettes
** testing if installed package can be loaded from temporary location
** testing if installed package can be loaded from final location
** testing if installed package keeps a record of temporary installation path
* MD5 sums
packaged installation of 'GENESIS' as GENESIS_2.25.2.zip
* DONE (GENESIS)