Back to Multiple platform build/check report for BioC 3.15
ABCDEF[G]HIJKLMNOPQRSTUVWXYZ

This page was generated on 2022-01-15 11:07:36 -0500 (Sat, 15 Jan 2022).

HostnameOSArch (*)R versionInstalled pkgs
nebbiolo1Linux (Ubuntu 20.04.4 LTS)x86_64R Under development (unstable) (2022-01-05 r81451) -- "Unsuffered Consequences" 4160
riesling1Windows Server 2019 Standardx64R Under development (unstable) (2021-11-21 r81221) -- "Unsuffered Consequences" 4055
palomino3Windows Server 2022 Datacenterx64R Under development (unstable) (2021-12-21 r81400 ucrt) -- "Unsuffered Consequences" 3997
merida1macOS 10.14.6 Mojavex86_64R Under development (unstable) (2022-01-05 r81451) -- "Unsuffered Consequences" 4114
Click on any hostname to see more info about the system (e.g. compilers)      (*) as reported by 'uname -p', except on Windows and Mac OS X

BUILD BIN results for GDSArray on riesling1


To the developers/maintainers of the GDSArray package:
- Please allow up to 24 hours (and sometimes 48 hours) for your latest push to git@git.bioconductor.org:packages/GDSArray.git to
reflect on this report. See How and When does the builder pull? When will my changes propagate? here for more information.
- Make sure to use the following settings in order to reproduce any error or warning you see on this page.

raw results

Package 708/2074HostnameOS / ArchINSTALLBUILDCHECKBUILD BIN
GDSArray 1.15.1  (landing page)
Qian Liu
Snapshot Date: 2022-01-14 13:55:18 -0500 (Fri, 14 Jan 2022)
git_url: https://git.bioconductor.org/packages/GDSArray
git_branch: master
git_last_commit: 7f953ac
git_last_commit_date: 2022-01-06 16:45:25 -0500 (Thu, 06 Jan 2022)
nebbiolo1Linux (Ubuntu 20.04.4 LTS) / x86_64  OK    OK    OK  UNNEEDED, same version is already published
riesling1Windows Server 2019 Standard / x64  OK    OK    OK    OK  
palomino3Windows Server 2022 Datacenter / x64  OK    OK    OK    OK  NO, package depends on 'BiocGenerics' which is not available
merida1macOS 10.14.6 Mojave / x86_64  OK    OK    OK    OK  UNNEEDED, same version is already published

Summary

Package: GDSArray
Version: 1.15.1
Command: rm -rf GDSArray.buildbin-libdir && mkdir GDSArray.buildbin-libdir && D:\biocbuild\bbs-3.15-bioc\R\bin\R.exe CMD INSTALL --build --library=GDSArray.buildbin-libdir GDSArray_1.15.1.tar.gz
StartedAt: 2022-01-14 20:58:17 -0500 (Fri, 14 Jan 2022)
EndedAt: 2022-01-14 20:59:31 -0500 (Fri, 14 Jan 2022)
EllapsedTime: 73.5 seconds
RetCode: 0
Status:   OK  
PackageFile: GDSArray_1.15.1.zip
PackageFileSize: 629.2 KiB

Command output

##############################################################################
##############################################################################
###
### Running command:
###
###   rm -rf GDSArray.buildbin-libdir && mkdir GDSArray.buildbin-libdir && D:\biocbuild\bbs-3.15-bioc\R\bin\R.exe CMD INSTALL --build --library=GDSArray.buildbin-libdir GDSArray_1.15.1.tar.gz
###
##############################################################################
##############################################################################


* installing *source* package 'GDSArray' ...
** using staged installation
** R
** inst
** byte-compile and prepare package for lazy loading
** help
*** installing help indices
  converting help for package 'GDSArray'
    finding HTML links ... done
    GDSArray-classes                        html  
    GDSArray-methods                        html  
    GDSFile-class                           html  
REDIRECT:topic	 Previous alias or file overwritten by alias: D:/biocbuild/bbs-3.15-bioc/meat/GDSArray.buildbin-libdir/00LOCK-GDSArray/00new/GDSArray/help/GDSFile.html
REDIRECT:topic	 Previous alias or file overwritten by alias: D:/biocbuild/bbs-3.15-bioc/meat/GDSArray.buildbin-libdir/00LOCK-GDSArray/00new/GDSArray/help/GDSFile+2Cgdsfile-method.html
** building package indices
** installing vignettes
** testing if installed package can be loaded from temporary location
** testing if installed package can be loaded from final location
** testing if installed package keeps a record of temporary installation path
* MD5 sums
packaged installation of 'GDSArray' as GDSArray_1.15.1.zip
* DONE (GDSArray)