Name | Last modified | Size | Description | |
---|---|---|---|---|
Parent Directory | - | |||
buildsrc-out.txt | 29-Mar-2024 00:36 | 1.0K | ||
buildsrc-summary.dcf | 29-Mar-2024 00:36 | 335 | ||
checksrc-out.txt | 15-Feb-2024 03:18 | 3.4K | ||
checksrc-summary.dcf | 15-Feb-2024 03:18 | 418 | ||
install-out.txt | 29-Mar-2024 00:36 | 955 | ||
install-summary.dcf | 29-Mar-2024 00:36 | 261 | ||