Back to Multiple platform build/check report for BioC 3.14
ABCDEF[G]HIJKLMNOPQRSTUVWXYZ

This page was generated on 2021-10-23 14:06:27 -0400 (Sat, 23 Oct 2021).

INSTALL results for GDCRNATools on riesling1

To the developers/maintainers of the GDCRNATools package:
- Please allow up to 24 hours (and sometimes 48 hours) for your latest push to git@git.bioconductor.org:packages/GDCRNATools.git to
reflect on this report. See How and When does the builder pull? When will my changes propagate? here for more information.
- Make sure to use the following settings in order to reproduce any error or warning you see on this page.

raw results

Package 709/2083HostnameOS / ArchINSTALLBUILDCHECKBUILD BIN
GDCRNATools 1.13.1  (landing page)
Ruidong Li
Snapshot Date: 2021-10-22 14:50:11 -0400 (Fri, 22 Oct 2021)
git_url: https://git.bioconductor.org/packages/GDCRNATools
git_branch: master
git_last_commit: a757328
git_last_commit_date: 2021-08-03 03:15:18 -0400 (Tue, 03 Aug 2021)
nebbiolo2Linux (Ubuntu 20.04.2 LTS) / x86_64  OK    OK    OK  UNNEEDED, same version is already published
riesling1Windows Server 2019 Standard / x64  OK    OK    OK    OK  UNNEEDED, same version is already published
merida1macOS 10.14.6 Mojave / x86_64  OK    OK    OK    OK  UNNEEDED, same version is already published

Summary

Package: GDCRNATools
Version: 1.13.1
Command: C:\cygwin\bin\curl.exe -O http://155.52.207.166/BBS/3.14/bioc/src/contrib/GDCRNATools_1.13.1.tar.gz && rm -rf GDCRNATools.buildbin-libdir && mkdir GDCRNATools.buildbin-libdir && D:\biocbuild\bbs-3.14-bioc\R\bin\R.exe CMD INSTALL --merge-multiarch --build --library=GDCRNATools.buildbin-libdir GDCRNATools_1.13.1.tar.gz && D:\biocbuild\bbs-3.14-bioc\R\bin\R.exe CMD INSTALL GDCRNATools_1.13.1.zip && rm GDCRNATools_1.13.1.tar.gz GDCRNATools_1.13.1.zip
StartedAt: 2021-10-22 18:57:16 -0400 (Fri, 22 Oct 2021)
EndedAt: 2021-10-22 19:00:04 -0400 (Fri, 22 Oct 2021)
EllapsedTime: 167.9 seconds
RetCode: 0
Status:   OK  

Command output

##############################################################################
##############################################################################
###
### Running command:
###
###   C:\cygwin\bin\curl.exe -O http://155.52.207.166/BBS/3.14/bioc/src/contrib/GDCRNATools_1.13.1.tar.gz && rm -rf GDCRNATools.buildbin-libdir && mkdir GDCRNATools.buildbin-libdir && D:\biocbuild\bbs-3.14-bioc\R\bin\R.exe CMD INSTALL --merge-multiarch --build --library=GDCRNATools.buildbin-libdir GDCRNATools_1.13.1.tar.gz && D:\biocbuild\bbs-3.14-bioc\R\bin\R.exe CMD INSTALL GDCRNATools_1.13.1.zip && rm GDCRNATools_1.13.1.tar.gz GDCRNATools_1.13.1.zip
###
##############################################################################
##############################################################################


  % Total    % Received % Xferd  Average Speed   Time    Time     Time  Current
                                 Dload  Upload   Total   Spent    Left  Speed

  0     0    0     0    0     0      0      0 --:--:-- --:--:-- --:--:--     0
 16 3963k   16  666k    0     0  2245k      0  0:00:01 --:--:--  0:00:01 2245k
100 3963k  100 3963k    0     0  6332k      0 --:--:-- --:--:-- --:--:-- 6322k

install for i386

* installing *source* package 'GDCRNATools' ...
** using staged installation
** R
** data
** inst
** byte-compile and prepare package for lazy loading
** help
*** installing help indices
  converting help for package 'GDCRNATools'
    finding HTML links ... done
    DEGAll                                  html  
    GDCRNATools-package                     html  
    enrichOutput                            html  
    gdcBarPlot                              html  
    gdcCEAnalysis                           html  
    gdcClinicalDownload                     html  
    gdcClinicalMerge                        html  
    gdcCorPlot                              html  
    gdcDEAnalysis                           html  
    gdcDEReport                             html  
    gdcEnrichAnalysis                       html  
    gdcEnrichPlot                           html  
    gdcExportNetwork                        html  
    gdcFilterDuplicate                      html  
    gdcFilterSampleType                     html  
    gdcHeatmap                              html  
    gdcKMPlot                               html  
    gdcMatchSamples                         html  
    gdcParseMetadata                        html  
    gdcRNADownload                          html  
    gdcRNAMerge                             html  
    gdcSurvivalAnalysis                     html  
    gdcVolcanoPlot                          html  
    gdcVoomNormalization                    html  
    lncTarget                               html  
    mirCounts                               html  
    pcTarget                                html  
    rnaCounts                               html  
    shinyCorPlot                            html  
    shinyKMPlot                             html  
    shinyPathview                           html  
** building package indices
** installing vignettes
** testing if installed package can be loaded from temporary location
** testing if installed package can be loaded from final location
** testing if installed package keeps a record of temporary installation path

install for x64

* installing *source* package 'GDCRNATools' ...
** testing if installed package can be loaded
* MD5 sums
packaged installation of 'GDCRNATools' as GDCRNATools_1.13.1.zip
* DONE (GDCRNATools)
* installing to library 'D:/biocbuild/bbs-3.14-bioc/R/library'
package 'GDCRNATools' successfully unpacked and MD5 sums checked