Back to Multiple platform build/check report for BioC 3.14
ABCDEF[G]HIJKLMNOPQRSTUVWXYZ

This page was generated on 2021-10-18 12:04:05 -0400 (Mon, 18 Oct 2021).

BUILD results for GDCRNATools on riesling1

To the developers/maintainers of the GDCRNATools package:
- Please allow up to 24 hours (and sometimes 48 hours) for your latest push to git@git.bioconductor.org:packages/GDCRNATools.git to
reflect on this report. See How and When does the builder pull? When will my changes propagate? here for more information.
- Make sure to use the following settings in order to reproduce any error or warning you see on this page.

raw results

Package 699/2060HostnameOS / ArchINSTALLBUILDCHECKBUILD BIN
GDCRNATools 1.13.1  (landing page)
Ruidong Li
Snapshot Date: 2021-10-17 14:50:03 -0400 (Sun, 17 Oct 2021)
git_url: https://git.bioconductor.org/packages/GDCRNATools
git_branch: master
git_last_commit: a757328
git_last_commit_date: 2021-08-03 03:15:18 -0400 (Tue, 03 Aug 2021)
nebbiolo2Linux (Ubuntu 20.04.2 LTS) / x86_64  OK    OK    OK  UNNEEDED, same version is already published
riesling1Windows Server 2019 Standard / x64  OK    OK    OK    OK  UNNEEDED, same version is already published
merida1macOS 10.14.6 Mojave / x86_64  OK    OK    OK    NA  

Summary

Package: GDCRNATools
Version: 1.13.1
Command: chmod a+r GDCRNATools -R && D:\biocbuild\bbs-3.14-bioc\R\bin\R.exe CMD build --keep-empty-dirs --no-resave-data GDCRNATools
StartedAt: 2021-10-17 20:57:29 -0400 (Sun, 17 Oct 2021)
EndedAt: 2021-10-17 21:01:07 -0400 (Sun, 17 Oct 2021)
EllapsedTime: 217.7 seconds
RetCode: 0
Status:   OK  
PackageFile: GDCRNATools_1.13.1.tar.gz
PackageFileSize: 5.279 MiB

Command output

##############################################################################
##############################################################################
###
### Running command:
###
###   chmod a+r GDCRNATools -R && D:\biocbuild\bbs-3.14-bioc\R\bin\R.exe CMD build --keep-empty-dirs --no-resave-data GDCRNATools
###
##############################################################################
##############################################################################


* checking for file 'GDCRNATools/DESCRIPTION' ... OK
* preparing 'GDCRNATools':
* checking DESCRIPTION meta-information ... OK
* installing the package to build vignettes
* creating vignettes ... OK
* checking for LF line-endings in source and make files and shell scripts
* checking for empty or unneeded directories
* looking to see if a 'data/datalist' file should be added
* building 'GDCRNATools_1.13.1.tar.gz'