Back to Multiple platform build/check report for BioC 3.16
ABCDEF[G]HIJKLMNOPQRSTUVWXYZ

This page was generated on 2022-06-29 11:04:20 -0400 (Wed, 29 Jun 2022).

HostnameOSArch (*)R versionInstalled pkgs
nebbiolo2Linux (Ubuntu 20.04.4 LTS)x86_644.2.0 Patched (2022-06-02 r82447) -- "Vigorous Calisthenics" 4343
lconwaymacOS 12.2.1 Montereyx86_644.2.0 Patched (2022-05-29 r82424) -- "Vigorous Calisthenics" 4159
Click on any hostname to see more info about the system (e.g. compilers)      (*) as reported by 'uname -p', except on Windows and Mac OS X

INSTALL results for GAPGOM on nebbiolo2


To the developers/maintainers of the GAPGOM package:
- Please allow up to 24 hours (and sometimes 48 hours) for your latest push to git@git.bioconductor.org:packages/GAPGOM.git to
reflect on this report. See How and When does the builder pull? When will my changes propagate? for more information.
- Make sure to use the following settings in order to reproduce any error or warning you see on this page.

raw results

Package 713/2124HostnameOS / ArchINSTALLBUILDCHECKBUILD BIN
GAPGOM 1.13.0  (landing page)
Rezvan Ehsani
Snapshot Date: 2022-06-28 14:00:02 -0400 (Tue, 28 Jun 2022)
git_url: https://git.bioconductor.org/packages/GAPGOM
git_branch: master
git_last_commit: b8b4eda
git_last_commit_date: 2022-04-26 11:52:58 -0400 (Tue, 26 Apr 2022)
nebbiolo2Linux (Ubuntu 20.04.4 LTS) / x86_64  OK    ERROR  skipped
lconwaymacOS 12.2.1 Monterey / x86_64  OK    ERROR  skippedskipped

Summary

Package: GAPGOM
Version: 1.13.0
Command: /home/biocbuild/bbs-3.16-bioc/R/bin/R CMD INSTALL GAPGOM
StartedAt: 2022-06-28 15:24:21 -0400 (Tue, 28 Jun 2022)
EndedAt: 2022-06-28 15:24:44 -0400 (Tue, 28 Jun 2022)
EllapsedTime: 23.7 seconds
RetCode: 0
Status:   OK  

Command output

##############################################################################
##############################################################################
###
### Running command:
###
###   /home/biocbuild/bbs-3.16-bioc/R/bin/R CMD INSTALL GAPGOM
###
##############################################################################
##############################################################################


* installing to library ‘/home/biocbuild/bbs-3.16-bioc/R/library’
* installing *source* package ‘GAPGOM’ ...
** using staged installation
** R
** data
*** moving datasets to lazyload DB
** inst
** byte-compile and prepare package for lazy loading
** help
*** installing help indices
** building package indices
** installing vignettes
** testing if installed package can be loaded from temporary location
** testing if installed package can be loaded from final location
** testing if installed package keeps a record of temporary installation path
* DONE (GAPGOM)