Back to Multiple platform build/check report for BioC 3.15
ABCDEF[G]HIJKLMNOPQRSTUVWXYZ

This page was generated on 2022-01-15 11:07:35 -0500 (Sat, 15 Jan 2022).

HostnameOSArch (*)R versionInstalled pkgs
nebbiolo1Linux (Ubuntu 20.04.4 LTS)x86_64R Under development (unstable) (2022-01-05 r81451) -- "Unsuffered Consequences" 4160
riesling1Windows Server 2019 Standardx64R Under development (unstable) (2021-11-21 r81221) -- "Unsuffered Consequences" 4055
palomino3Windows Server 2022 Datacenterx64R Under development (unstable) (2021-12-21 r81400 ucrt) -- "Unsuffered Consequences" 3997
merida1macOS 10.14.6 Mojavex86_64R Under development (unstable) (2022-01-05 r81451) -- "Unsuffered Consequences" 4114
Click on any hostname to see more info about the system (e.g. compilers)      (*) as reported by 'uname -p', except on Windows and Mac OS X

INSTALL results for GA4GHclient on riesling1


To the developers/maintainers of the GA4GHclient package:
- Please allow up to 24 hours (and sometimes 48 hours) for your latest push to git@git.bioconductor.org:packages/GA4GHclient.git to
reflect on this report. See How and When does the builder pull? When will my changes propagate? here for more information.
- Make sure to use the following settings in order to reproduce any error or warning you see on this page.

raw results

Package 688/2074HostnameOS / ArchINSTALLBUILDCHECKBUILD BIN
GA4GHclient 1.19.1  (landing page)
Welliton Souza
Snapshot Date: 2022-01-14 13:55:18 -0500 (Fri, 14 Jan 2022)
git_url: https://git.bioconductor.org/packages/GA4GHclient
git_branch: master
git_last_commit: 6d21d42
git_last_commit_date: 2021-11-18 19:26:44 -0500 (Thu, 18 Nov 2021)
nebbiolo1Linux (Ubuntu 20.04.4 LTS) / x86_64  OK    OK    OK  UNNEEDED, same version is already published
riesling1Windows Server 2019 Standard / x64  OK    OK    OK    OK  
palomino3Windows Server 2022 Datacenter / x64  OK    OK    OK    OK  NO, package depends on 'S4Vectors' which is not available
merida1macOS 10.14.6 Mojave / x86_64  OK    OK    OK    OK  UNNEEDED, same version is already published

Summary

Package: GA4GHclient
Version: 1.19.1
Command: D:\biocbuild\bbs-3.15-bioc\R\bin\R.exe CMD INSTALL GA4GHclient
StartedAt: 2022-01-14 16:10:48 -0500 (Fri, 14 Jan 2022)
EndedAt: 2022-01-14 16:11:54 -0500 (Fri, 14 Jan 2022)
EllapsedTime: 65.9 seconds
RetCode: 0
Status:   OK  

Command output

##############################################################################
##############################################################################
###
### Running command:
###
###   D:\biocbuild\bbs-3.15-bioc\R\bin\R.exe CMD INSTALL GA4GHclient
###
##############################################################################
##############################################################################


* installing to library 'D:/biocbuild/bbs-3.15-bioc/R/library'
* installing *source* package 'GA4GHclient' ...
** using staged installation
** R
** inst
** byte-compile and prepare package for lazy loading
No methods found in package 'BiocGenerics' for request: 'lengths' when loading 'GA4GHclient'
** help
*** installing help indices
  converting help for package 'GA4GHclient'
    finding HTML links ... done
    GA4GHclient-package                     html  
    HGVSnames                               html  
    getBiosample                            html  
    finding level-2 HTML links ... done

    getCallSet                              html  
    getDataset                              html  
    getExpressionLevel                      html  
    getFeature                              html  
    getFeatureSet                           html  
    getIndividual                           html  
    getReadGroupSet                         html  
    getReference                            html  
    getReferenceSet                         html  
    getRnaQuantification                    html  
    getRnaQuantificationSet                 html  
    getVariant                              html  
    getVariantAnnotationSet                 html  
    getVariantSet                           html  
    listReferenceBases                      html  
    makeVCFFromGA4GHResponse                html  
    makeVCFHeaderFromGA4GHResponse          html  
    searchBiosamples                        html  
    searchCallSets                          html  
    searchDatasets                          html  
    searchExpressionLevels                  html  
    searchFeatureSets                       html  
    searchFeatures                          html  
    searchIndividuals                       html  
    searchPhenotypeAssociationSets          html  
    searchPhenotypeAssociations             html  
    searchReadGroupSets                     html  
    searchReads                             html  
    searchReferenceSets                     html  
    searchReferences                        html  
    searchRnaQuantificationSets             html  
    searchRnaQuantifications                html  
    searchVariantAnnotationSets             html  
    searchVariantAnnotations                html  
    searchVariantSets                       html  
    searchVariants                          html  
    searchVariantsByGRanges                 html  
** building package indices
** installing vignettes
** testing if installed package can be loaded from temporary location
No methods found in package 'BiocGenerics' for request: 'lengths' when loading 'GA4GHclient'
** testing if installed package can be loaded from final location
No methods found in package 'BiocGenerics' for request: 'lengths' when loading 'GA4GHclient'
** testing if installed package keeps a record of temporary installation path
* DONE (GA4GHclient)
Making 'packages.html' ...Warning in packageDescription(i, lib.loc = lib, fields = "Title", encoding = "UTF-8") :
  DESCRIPTION file of package 'trena' is missing or broken
 done