Index of /checkResults/devel/bioc-LATEST/FunChIP/raw-results/palomino4

[ICO]NameLast modifiedSizeDescription

[DIR]Parent Directory  -  
[   ]buildsrc-summary.dcf07-Aug-2022 00:06 453  
[   ]checksrc-summary.dcf07-Aug-2022 00:06 456  
[   ]buildbin-summary.dcf07-Aug-2022 00:06 533  
[   ]install-summary.dcf07-Aug-2022 00:06 628  
[TXT]buildsrc-out.txt07-Aug-2022 00:06 1.1K 
[TXT]checksrc-out.txt07-Aug-2022 00:06 4.6K 
[TXT]buildbin-out.txt07-Aug-2022 00:06 4.9K 
[TXT]install-out.txt07-Aug-2022 00:06 5.7K