![]() | Name | Last modified | Size | Description |
---|---|---|---|---|
![]() | Parent Directory | - | ||
![]() | install-summary.dcf | 29-Sep-2023 00:36 | 259 | |
![]() | buildsrc-summary.dcf | 29-Sep-2023 00:36 | 415 | |
![]() | checksrc-summary.dcf | 29-Sep-2023 00:36 | 420 | |
![]() | buildsrc-out.txt | 29-Sep-2023 00:36 | 1.1K | |
![]() | install-out.txt | 29-Sep-2023 00:36 | 4.8K | |
![]() | checksrc-out.txt | 29-Sep-2023 00:36 | 4.9K | |