Index of /checkResults/devel/bioc-LATEST/FunChIP/raw-results/lconway

[ICO]NameLast modifiedSizeDescription

[DIR]Parent Directory  -  
[TXT]install-out.txt10-Aug-2022 00:07 1.9K 
[   ]install-summary.dcf10-Aug-2022 00:07 269  
[TXT]buildsrc-out.txt10-Aug-2022 00:07 1.1K 
[   ]buildsrc-summary.dcf10-Aug-2022 00:07 428  
[TXT]checksrc-out.txt10-Aug-2022 00:07 3.7K 
[   ]checksrc-summary.dcf10-Aug-2022 00:07 444  
[TXT]buildbin-out.txt10-Aug-2022 00:07 2.7K 
[   ]buildbin-summary.dcf10-Aug-2022 00:07 530