Back to Multiple platform build/check report for BioC 3.15
ABCDE[F]GHIJKLMNOPQRSTUVWXYZ

This page was generated on 2022-01-19 11:07:41 -0500 (Wed, 19 Jan 2022).

HostnameOSArch (*)R versionInstalled pkgs
nebbiolo1Linux (Ubuntu 20.04.4 LTS)x86_64R Under development (unstable) (2022-01-05 r81451) -- "Unsuffered Consequences" 4161
riesling1Windows Server 2019 Standardx64R Under development (unstable) (2021-11-21 r81221) -- "Unsuffered Consequences" 4056
palomino3Windows Server 2022 Datacenterx64R Under development (unstable) (2021-12-21 r81400 ucrt) -- "Unsuffered Consequences" 3998
merida1macOS 10.14.6 Mojavex86_64R Under development (unstable) (2022-01-05 r81451) -- "Unsuffered Consequences" 4115
Click on any hostname to see more info about the system (e.g. compilers)      (*) as reported by 'uname -p', except on Windows and Mac OS X

BUILD BIN results for FilterFFPE on riesling1


To the developers/maintainers of the FilterFFPE package:
- Please allow up to 24 hours (and sometimes 48 hours) for your latest push to git@git.bioconductor.org:packages/FilterFFPE.git to
reflect on this report. See How and When does the builder pull? When will my changes propagate? here for more information.
- Make sure to use the following settings in order to reproduce any error or warning you see on this page.

raw results

Package 639/2074HostnameOS / ArchINSTALLBUILDCHECKBUILD BIN
FilterFFPE 1.5.0  (landing page)
Lanying Wei
Snapshot Date: 2022-01-18 13:55:18 -0500 (Tue, 18 Jan 2022)
git_url: https://git.bioconductor.org/packages/FilterFFPE
git_branch: master
git_last_commit: 038997f
git_last_commit_date: 2021-10-26 13:02:40 -0500 (Tue, 26 Oct 2021)
nebbiolo1Linux (Ubuntu 20.04.4 LTS) / x86_64  OK    OK    OK  UNNEEDED, same version is already published
riesling1Windows Server 2019 Standard / x64  OK    OK    OK    OK  
palomino3Windows Server 2022 Datacenter / x64  OK    OK    OK    OK  NO, package depends on 'GenomicRanges' which is not available
merida1macOS 10.14.6 Mojave / x86_64  OK    OK    OK    OK  UNNEEDED, same version is already published

Summary

Package: FilterFFPE
Version: 1.5.0
Command: rm -rf FilterFFPE.buildbin-libdir && mkdir FilterFFPE.buildbin-libdir && D:\biocbuild\bbs-3.15-bioc\R\bin\R.exe CMD INSTALL --build --library=FilterFFPE.buildbin-libdir FilterFFPE_1.5.0.tar.gz
StartedAt: 2022-01-18 20:51:59 -0500 (Tue, 18 Jan 2022)
EndedAt: 2022-01-18 20:52:57 -0500 (Tue, 18 Jan 2022)
EllapsedTime: 58.5 seconds
RetCode: 0
Status:   OK  
PackageFile: FilterFFPE_1.5.0.zip
PackageFileSize: 1.344 MiB

Command output

##############################################################################
##############################################################################
###
### Running command:
###
###   rm -rf FilterFFPE.buildbin-libdir && mkdir FilterFFPE.buildbin-libdir && D:\biocbuild\bbs-3.15-bioc\R\bin\R.exe CMD INSTALL --build --library=FilterFFPE.buildbin-libdir FilterFFPE_1.5.0.tar.gz
###
##############################################################################
##############################################################################


* installing *source* package 'FilterFFPE' ...
** using staged installation
** R
** inst
** byte-compile and prepare package for lazy loading
** help
*** installing help indices
  converting help for package 'FilterFFPE'
    finding HTML links ... done
    FFPEReadFilter                          html  
    FilterFFPE-package                      html  
    filterBamByReadNames                    html  
    findArtifactChimericReads               html  
** building package indices
** installing vignettes
** testing if installed package can be loaded from temporary location
** testing if installed package can be loaded from final location
** testing if installed package keeps a record of temporary installation path
* MD5 sums
packaged installation of 'FilterFFPE' as FilterFFPE_1.5.0.zip
* DONE (FilterFFPE)