Index of /checkResults/devel/bioc-LATEST/FilterFFPE/raw-results/nebbiolo2

[ICO]NameLast modifiedSizeDescription

[DIR]Parent Directory  -  
[TXT]buildsrc-out.txt14-Aug-2022 00:05 849  
[   ]buildsrc-summary.dcf14-Aug-2022 00:05 424  
[TXT]checksrc-out.txt14-Aug-2022 00:05 3.2K 
[   ]checksrc-summary.dcf14-Aug-2022 00:05 434  
[TXT]install-out.txt14-Aug-2022 00:05 956  
[   ]install-summary.dcf14-Aug-2022 00:05 264