Index of /checkResults/devel/bioc-LATEST/FilterFFPE/raw-results/nebbiolo2

[ICO]NameLast modifiedSizeDescription

[DIR]Parent Directory  -  
[TXT]buildsrc-out.txt05-Jul-2022 00:04 849  
[   ]buildsrc-summary.dcf05-Jul-2022 00:04 424  
[TXT]checksrc-out.txt05-Jul-2022 00:04 3.2K 
[   ]checksrc-summary.dcf05-Jul-2022 00:04 434  
[TXT]install-out.txt05-Jul-2022 00:04 956  
[   ]install-summary.dcf05-Jul-2022 00:04 264