Name | Last modified | Size | Description | |
---|---|---|---|---|
Parent Directory | - | |||
buildbin-out.txt | 29-Mar-2024 00:39 | 5.8K | ||
buildbin-summary.dcf | 29-Mar-2024 00:39 | 559 | ||
buildsrc-out.txt | 29-Mar-2024 00:39 | 2.4K | ||
buildsrc-summary.dcf | 29-Mar-2024 00:39 | 442 | ||
checksrc-out.txt | 29-Mar-2024 00:39 | 4.8K | ||
checksrc-summary.dcf | 29-Mar-2024 00:39 | 464 | ||
install-out.txt | 29-Mar-2024 00:39 | 3.6K | ||
install-summary.dcf | 29-Mar-2024 00:39 | 279 | ||