Name | Last modified | Size | Description | |
---|---|---|---|---|
Parent Directory | - | |||
buildsrc-out.txt | 28-Mar-2024 00:36 | 832 | ||
buildsrc-summary.dcf | 28-Mar-2024 00:36 | 415 | ||
checksrc-out.txt | 28-Mar-2024 00:36 | 4.2K | ||
checksrc-summary.dcf | 28-Mar-2024 00:36 | 410 | ||
install-out.txt | 28-Mar-2024 00:36 | 2.1K | ||
install-summary.dcf | 28-Mar-2024 00:36 | 257 | ||