![]() | Name | Last modified | Size | Description |
---|---|---|---|---|
![]() | Parent Directory | - | ||
![]() | buildsrc-out.txt | 01-Oct-2023 00:36 | 831 | |
![]() | buildsrc-summary.dcf | 01-Oct-2023 00:36 | 413 | |
![]() | checksrc-out.txt | 01-Oct-2023 00:36 | 8.0K | |
![]() | checksrc-summary.dcf | 01-Oct-2023 00:36 | 409 | |
![]() | install-out.txt | 01-Oct-2023 00:36 | 8.0K | |
![]() | install-summary.dcf | 01-Oct-2023 00:36 | 256 | |