Name | Last modified | Size | Description | |
---|---|---|---|---|
Parent Directory | - | |||
buildbin-out.txt | 02-May-2024 00:39 | 17K | ||
buildbin-summary.dcf | 02-May-2024 00:39 | 521 | ||
buildsrc-out.txt | 02-May-2024 00:39 | 841 | ||
buildsrc-summary.dcf | 02-May-2024 00:39 | 423 | ||
checksrc-out.txt | 02-May-2024 00:39 | 14K | ||
checksrc-summary.dcf | 02-May-2024 00:39 | 439 | ||
install-out.txt | 02-May-2024 00:39 | 15K | ||
install-summary.dcf | 02-May-2024 00:39 | 267 | ||