![]() | Name | Last modified | Size | Description |
---|---|---|---|---|
![]() | Parent Directory | - | ||
![]() | buildbin-out.txt | 28-Sep-2023 00:39 | 6.2K | |
![]() | buildbin-summary.dcf | 28-Sep-2023 00:39 | 521 | |
![]() | buildsrc-out.txt | 28-Sep-2023 00:39 | 841 | |
![]() | buildsrc-summary.dcf | 28-Sep-2023 00:39 | 423 | |
![]() | checksrc-out.txt | 28-Sep-2023 00:39 | 8.4K | |
![]() | checksrc-summary.dcf | 28-Sep-2023 00:39 | 444 | |
![]() | install-out.txt | 28-Sep-2023 00:39 | 4.2K | |
![]() | install-summary.dcf | 28-Sep-2023 00:39 | 267 | |