Back to Multiple platform build/check report for BioC 3.16
ABCDE[F]GHIJKLMNOPQRSTUVWXYZ

This page was generated on 2022-06-24 11:06:27 -0400 (Fri, 24 Jun 2022).

HostnameOSArch (*)R versionInstalled pkgs
nebbiolo2Linux (Ubuntu 20.04.4 LTS)x86_644.2.0 Patched (2022-06-02 r82447) -- "Vigorous Calisthenics" 4331
palomino4Windows Server 2022 Datacenterx644.2.0 Patched (2022-06-02 r82447 ucrt) -- "Vigorous Calisthenics" 4136
lconwaymacOS 12.2.1 Montereyx86_644.2.0 Patched (2022-05-29 r82424) -- "Vigorous Calisthenics" 4147
Click on any hostname to see more info about the system (e.g. compilers)      (*) as reported by 'uname -p', except on Windows and Mac OS X

BUILD results for FLAMES on palomino4


To the developers/maintainers of the FLAMES package:
- Please allow up to 24 hours (and sometimes 48 hours) for your latest push to git@git.bioconductor.org:packages/FLAMES.git to
reflect on this report. See How and When does the builder pull? When will my changes propagate? for more information.
- Make sure to use the following settings in order to reproduce any error or warning you see on this page.

raw results

Package 662/2118HostnameOS / ArchINSTALLBUILDCHECKBUILD BIN
FLAMES 1.3.3  (landing page)
Voogd Oliver
Snapshot Date: 2022-06-23 14:00:04 -0400 (Thu, 23 Jun 2022)
git_url: https://git.bioconductor.org/packages/FLAMES
git_branch: master
git_last_commit: 3ddad9b
git_last_commit_date: 2022-05-15 22:37:58 -0400 (Sun, 15 May 2022)
nebbiolo2Linux (Ubuntu 20.04.4 LTS) / x86_64  OK    OK    OK  UNNEEDED, same version is already published
palomino4Windows Server 2022 Datacenter / x64  OK    OK    OK    OK  UNNEEDED, same version is already published
lconwaymacOS 12.2.1 Monterey / x86_64  OK    OK    OK    OK  UNNEEDED, same version is already published

Summary

Package: FLAMES
Version: 1.3.3
Command: chmod a+r FLAMES -R && F:\biocbuild\bbs-3.16-bioc\R\bin\R.exe CMD build --keep-empty-dirs --no-resave-data FLAMES
StartedAt: 2022-06-23 18:35:55 -0400 (Thu, 23 Jun 2022)
EndedAt: 2022-06-23 18:38:04 -0400 (Thu, 23 Jun 2022)
EllapsedTime: 128.6 seconds
RetCode: 0
Status:   OK  
PackageFile: FLAMES_1.3.3.tar.gz
PackageFileSize: 1.346 MiB

Command output

##############################################################################
##############################################################################
###
### Running command:
###
###   chmod a+r FLAMES -R && F:\biocbuild\bbs-3.16-bioc\R\bin\R.exe CMD build --keep-empty-dirs --no-resave-data FLAMES
###
##############################################################################
##############################################################################


* checking for file 'FLAMES/DESCRIPTION' ... OK
* preparing 'FLAMES':
* checking DESCRIPTION meta-information ... OK
* cleaning src
* installing the package to build vignettes
* creating vignettes ... OK
* cleaning src
* checking for LF line-endings in source and make files and shell scripts
* checking for empty or unneeded directories
* building 'FLAMES_1.3.3.tar.gz'
Warning: file 'FLAMES/configure' did not have execute permissions: corrected