Back to Multiple platform build/check report for BioC 3.16
ABCDE[F]GHIJKLMNOPQRSTUVWXYZ

This page was generated on 2022-06-24 11:06:27 -0400 (Fri, 24 Jun 2022).

HostnameOSArch (*)R versionInstalled pkgs
nebbiolo2Linux (Ubuntu 20.04.4 LTS)x86_644.2.0 Patched (2022-06-02 r82447) -- "Vigorous Calisthenics" 4331
palomino4Windows Server 2022 Datacenterx644.2.0 Patched (2022-06-02 r82447 ucrt) -- "Vigorous Calisthenics" 4136
lconwaymacOS 12.2.1 Montereyx86_644.2.0 Patched (2022-05-29 r82424) -- "Vigorous Calisthenics" 4147
Click on any hostname to see more info about the system (e.g. compilers)      (*) as reported by 'uname -p', except on Windows and Mac OS X

BUILD BIN results for FLAMES on palomino4


To the developers/maintainers of the FLAMES package:
- Please allow up to 24 hours (and sometimes 48 hours) for your latest push to git@git.bioconductor.org:packages/FLAMES.git to
reflect on this report. See How and When does the builder pull? When will my changes propagate? for more information.
- Make sure to use the following settings in order to reproduce any error or warning you see on this page.

raw results

Package 662/2118HostnameOS / ArchINSTALLBUILDCHECKBUILD BIN
FLAMES 1.3.3  (landing page)
Voogd Oliver
Snapshot Date: 2022-06-23 14:00:04 -0400 (Thu, 23 Jun 2022)
git_url: https://git.bioconductor.org/packages/FLAMES
git_branch: master
git_last_commit: 3ddad9b
git_last_commit_date: 2022-05-15 22:37:58 -0400 (Sun, 15 May 2022)
nebbiolo2Linux (Ubuntu 20.04.4 LTS) / x86_64  OK    OK    OK  UNNEEDED, same version is already published
palomino4Windows Server 2022 Datacenter / x64  OK    OK    OK    OK  UNNEEDED, same version is already published
lconwaymacOS 12.2.1 Monterey / x86_64  OK    OK    OK    OK  UNNEEDED, same version is already published

Summary

Package: FLAMES
Version: 1.3.3
Command: rm -rf FLAMES.buildbin-libdir && mkdir FLAMES.buildbin-libdir && F:\biocbuild\bbs-3.16-bioc\R\bin\R.exe CMD INSTALL --merge-multiarch --build --library=FLAMES.buildbin-libdir FLAMES_1.3.3.tar.gz
StartedAt: 2022-06-24 07:35:59 -0400 (Fri, 24 Jun 2022)
EndedAt: 2022-06-24 07:37:40 -0400 (Fri, 24 Jun 2022)
EllapsedTime: 101.2 seconds
RetCode: 0
Status:   OK  
PackageFile: FLAMES_1.3.3.zip
PackageFileSize: 5.184 MiB

Command output

##############################################################################
##############################################################################
###
### Running command:
###
###   rm -rf FLAMES.buildbin-libdir && mkdir FLAMES.buildbin-libdir && F:\biocbuild\bbs-3.16-bioc\R\bin\R.exe CMD INSTALL --merge-multiarch --build --library=FLAMES.buildbin-libdir FLAMES_1.3.3.tar.gz
###
##############################################################################
##############################################################################


only one architecture so ignoring '--merge-multiarch'
* installing *source* package 'FLAMES' ...
** using staged installation
** libs
Warning: this package has a non-empty 'configure.win' file,
so building only the main architecture

g++  -std=gnu++17 -I"F:/biocbuild/bbs-3.16-bioc/R/include" -DNDEBUG -D_FILE_OFFSET_BITS=64 -I'F:/biocbuild/bbs-3.16-bioc/R/library/Rcpp/include' -I'F:/biocbuild/bbs-3.16-bioc/R/library/Rhtslib/include' -I'F:/biocbuild/bbs-3.16-bioc/R/library/zlibbioc/include'   -I"C:/rtools42/x86_64-w64-mingw32.static.posix/include"     -O2 -Wall  -mfpmath=sse -msse2 -mstackrealign  -c RcppExports.cpp -o RcppExports.o
g++  -std=gnu++17 -I"F:/biocbuild/bbs-3.16-bioc/R/include" -DNDEBUG -D_FILE_OFFSET_BITS=64 -I'F:/biocbuild/bbs-3.16-bioc/R/library/Rcpp/include' -I'F:/biocbuild/bbs-3.16-bioc/R/library/Rhtslib/include' -I'F:/biocbuild/bbs-3.16-bioc/R/library/zlibbioc/include'   -I"C:/rtools42/x86_64-w64-mingw32.static.posix/include"     -O2 -Wall  -mfpmath=sse -msse2 -mstackrealign  -c RcppFunctions.cpp -o RcppFunctions.o
In file included from main-functions/../utility/fastq_utils.h:9,
                 from main-functions/match_cell_barcode.h:16,
                 from RcppFunctions.cpp:7:
F:/biocbuild/bbs-3.16-bioc/R/library/Rhtslib/include/htslib/kseq.h:185:12: warning: 'int kseq_read(kseq_t*)' defined but not used [-Wunused-function]
  185 |  SCOPE int kseq_read(kseq_t *seq) \
      |            ^~~~~~~~~
F:/biocbuild/bbs-3.16-bioc/R/library/Rhtslib/include/htslib/kseq.h:185:12: note: in definition of macro '__KSEQ_READ'
  185 |  SCOPE int kseq_read(kseq_t *seq) \
      |            ^~~~~~~~~
F:/biocbuild/bbs-3.16-bioc/R/library/Rhtslib/include/htslib/kseq.h:240:35: note: in expansion of macro 'KSEQ_INIT2'
  240 | #define KSEQ_INIT(type_t, __read) KSEQ_INIT2(static, type_t, __read)
      |                                   ^~~~~~~~~~
main-functions/../utility/fastq_utils.h:15:1: note: in expansion of macro 'KSEQ_INIT'
   15 | KSEQ_INIT(gzFile, gzread)
      | ^~~~~~~~~
F:/biocbuild/bbs-3.16-bioc/R/library/Rhtslib/include/htslib/kseq.h:171:13: warning: 'void kseq_destroy(kseq_t*)' defined but not used [-Wunused-function]
  171 |  SCOPE void kseq_destroy(kseq_t *ks)         \
      |             ^~~~~~~~~~~~
F:/biocbuild/bbs-3.16-bioc/R/library/Rhtslib/include/htslib/kseq.h:171:13: note: in definition of macro '__KSEQ_BASIC'
  171 |  SCOPE void kseq_destroy(kseq_t *ks)         \
      |             ^~~~~~~~~~~~
F:/biocbuild/bbs-3.16-bioc/R/library/Rhtslib/include/htslib/kseq.h:240:35: note: in expansion of macro 'KSEQ_INIT2'
  240 | #define KSEQ_INIT(type_t, __read) KSEQ_INIT2(static, type_t, __read)
      |                                   ^~~~~~~~~~
main-functions/../utility/fastq_utils.h:15:1: note: in expansion of macro 'KSEQ_INIT'
   15 | KSEQ_INIT(gzFile, gzread)
      | ^~~~~~~~~
F:/biocbuild/bbs-3.16-bioc/R/library/Rhtslib/include/htslib/kseq.h:165:16: warning: 'kseq_t* kseq_init(bioc_gzFile)' defined but not used [-Wunused-function]
  165 |  SCOPE kseq_t *kseq_init(type_t fd)         \
      |                ^~~~~~~~~
F:/biocbuild/bbs-3.16-bioc/R/library/Rhtslib/include/htslib/kseq.h:165:16: note: in definition of macro '__KSEQ_BASIC'
  165 |  SCOPE kseq_t *kseq_init(type_t fd)         \
      |                ^~~~~~~~~
F:/biocbuild/bbs-3.16-bioc/R/library/Rhtslib/include/htslib/kseq.h:240:35: note: in expansion of macro 'KSEQ_INIT2'
  240 | #define KSEQ_INIT(type_t, __read) KSEQ_INIT2(static, type_t, __read)
      |                                   ^~~~~~~~~~
main-functions/../utility/fastq_utils.h:15:1: note: in expansion of macro 'KSEQ_INIT'
   15 | KSEQ_INIT(gzFile, gzread)
      | ^~~~~~~~~
/bin/sh: line 1: F:/biocbuild/bbs-3.16-bioc/R/bin.R: No such file or directory
gcc   -I"F:/biocbuild/bbs-3.16-bioc/R/include" -DNDEBUG -D_FILE_OFFSET_BITS=64 -I'F:/biocbuild/bbs-3.16-bioc/R/library/Rcpp/include' -I'F:/biocbuild/bbs-3.16-bioc/R/library/Rhtslib/include' -I'F:/biocbuild/bbs-3.16-bioc/R/library/zlibbioc/include'   -I"C:/rtools42/x86_64-w64-mingw32.static.posix/include"     -O2 -Wall  -std=gnu99 -mfpmath=sse -msse2 -mstackrealign  -c bam.c -o bam.o
bam.c: In function 'bam_remove_B':
bam.c:163:2: warning: this 'for' clause does not guard... [-Wmisleading-indentation]
  163 |  for (k = 0; k < b->core.n_cigar; ++k)
      |  ^~~
bam.c:165:3: note: ...this statement, but the latter is misleadingly indented as if it were guarded by the 'for'
  165 |   if (k == b->core.n_cigar) return 0; // no 'B'
      |   ^~
bam.c:226:3: warning: this 'for' clause does not guard... [-Wmisleading-indentation]
  226 |   for (k = 1; k < l; ++k)
      |   ^~~
bam.c:230:4: note: ...this statement, but the latter is misleadingly indented as if it were guarded by the 'for'
  230 |    for (k = i = 0; k < l; ++k)
      |    ^~~
bam.c:230:4: warning: this 'for' clause does not guard... [-Wmisleading-indentation]
bam.c:233:5: note: ...this statement, but the latter is misleadingly indented as if it were guarded by the 'for'
  233 |     l = i;
      |     ^
g++ -shared -s -static-libgcc -o FLAMES.dll tmp.def RcppExports.o RcppFunctions.o main-functions/match_cell_barcode.o main-functions/merge_bulk.o utility/edit_dist.o utility/fastq_utils.o utility/ssw/ssw_cpp.o bam.o utility/ssw/ssw.o F:/biocbuild/bbs-3.16-bioc/R/library/Rhtslib/usrlib/x64/libhts.a -lz -lm -lbz2 -llzma -lcurl -lidn2 -lunistring -liconv -lssl -lcrypto -lcrypt32 -lwsock32 -lwldap32 -lssh2 -lgcrypt -lgpg-error -lws2_32 -lzstd -lregex -LF:/biocbuild/bbs-3.16-bioc/R/library/zlibbioc/libs/x64 -lzlib1bioc -LC:/rtools42/x86_64-w64-mingw32.static.posix/lib/x64 -LC:/rtools42/x86_64-w64-mingw32.static.posix/lib -LF:/biocbuild/bbs-3.16-bioc/R/bin/x64 -lR
installing to F:/biocbuild/bbs-3.16-bioc/meat/FLAMES.buildbin-libdir/00LOCK-FLAMES/00new/FLAMES/libs/x64
** R
** inst
** byte-compile and prepare package for lazy loading
** help
*** installing help indices
** building package indices
** installing vignettes
** testing if installed package can be loaded from temporary location
** testing if installed package can be loaded from final location
** testing if installed package keeps a record of temporary installation path
* MD5 sums
packaged installation of 'FLAMES' as FLAMES_1.3.3.zip
* DONE (FLAMES)