Back to Multiple platform build/check report for BioC 3.11
ABCDE[F]GHIJKLMNOPQRSTUVWXYZ

Multiple platform build/check report for BioC 3.11

Results for FEM

This page was generated on 2020-04-05 13:09:35 -0400 (Sun, 05 Apr 2020).

Package 581/1857HostnameOS / ArchINSTALLBUILDCHECKBUILD BIN
FEM 3.15.1
Zhen Yang
Snapshot Date: 2020-04-04 16:45:21 -0400 (Sat, 04 Apr 2020)
URL: https://git.bioconductor.org/packages/FEM
Branch: master
Last Commit: 7ea94ef
Last Changed Date: 2020-03-30 08:37:42 -0400 (Mon, 30 Mar 2020)
malbec2 Linux (Ubuntu 18.04.4 LTS) / x86_64  OK  OK  ERROR 
tokay2 Windows Server 2012 R2 Standard / x64  OK  OK  ERROR  OK